BEGIN:VCALENDAR
VERSION:2.0
PRODID:-//Bird&#039;s Nest at Blackbird - ECPv6.15.18//NONSGML v1.0//EN
CALSCALE:GREGORIAN
METHOD:PUBLISH
X-WR-CALNAME:Bird&#039;s Nest at Blackbird
X-ORIGINAL-URL:https://birdsnestatblackbird.com
X-WR-CALDESC:Events for Bird&#039;s Nest at Blackbird
REFRESH-INTERVAL;VALUE=DURATION:PT1H
X-Robots-Tag:noindex
X-PUBLISHED-TTL:PT1H
BEGIN:VTIMEZONE
TZID:America/New_York
BEGIN:DAYLIGHT
TZOFFSETFROM:-0500
TZOFFSETTO:-0400
TZNAME:EDT
DTSTART:20270314T070000
END:DAYLIGHT
BEGIN:STANDARD
TZOFFSETFROM:-0400
TZOFFSETTO:-0500
TZNAME:EST
DTSTART:20271107T060000
END:STANDARD
BEGIN:DAYLIGHT
TZOFFSETFROM:-0500
TZOFFSETTO:-0400
TZNAME:EDT
DTSTART:20280312T070000
END:DAYLIGHT
BEGIN:STANDARD
TZOFFSETFROM:-0400
TZOFFSETTO:-0500
TZNAME:EST
DTSTART:20281105T060000
END:STANDARD
BEGIN:DAYLIGHT
TZOFFSETFROM:-0500
TZOFFSETTO:-0400
TZNAME:EDT
DTSTART:20290311T070000
END:DAYLIGHT
BEGIN:STANDARD
TZOFFSETFROM:-0400
TZOFFSETTO:-0500
TZNAME:EST
DTSTART:20291104T060000
END:STANDARD
END:VTIMEZONE
BEGIN:VEVENT
DTSTART;TZID=America/New_York:20280628T170000
DTEND;TZID=America/New_York:20280628T220000
DTSTAMP:20260420T080703
CREATED:20251114T170351Z
LAST-MODIFIED:20251223T195146Z
UID:10003942-1845824400-1845842400@birdsnestatblackbird.com
SUMMARY:Classic Cocktail Night
DESCRIPTION:Step into midweek magic. Every Wednesday\, enjoy $1 off any full-size classic cocktail on the menu. From timeless favorites to expertly crafted classics\, it’s the perfect excuse to explore a taste of elegance and a touch of indulgence.
URL:https://birdsnestatblackbird.com/event/classic-cocktail-night/2028-06-28/
LOCATION:Bird’s Nest at Blackbird\, 3608 Rogers Branch Rd #103\, Wake Forest\, NC\, 27587\, United States
ATTACH;FMTTYPE=image/jpeg:https://birdsnestatblackbird.com/wp-content/uploads/2024/03/Manhattan-1.jpg
ORGANIZER;CN="Bird's Nest at Blackbird":MAILTO:info@blackbirdbeer.com
END:VEVENT
BEGIN:VEVENT
DTSTART;TZID=America/New_York:20280629T170000
DTEND;TZID=America/New_York:20280629T220000
DTSTAMP:20260420T080703
CREATED:20251114T170950Z
LAST-MODIFIED:20251223T200713Z
UID:10004204-1845910800-1845928800@birdsnestatblackbird.com
SUMMARY:Martini Night
DESCRIPTION:Thursdays are for the bold and the refined. Savor $1 off martini flights and $1 off any full-sized martini as you unwind with style. From dry to dirty\, shaken to stirred\, our martinis are crafted to elevate your evening\, one glass at a time.
URL:https://birdsnestatblackbird.com/event/martini-night/2028-06-29/
LOCATION:Bird’s Nest at Blackbird\, 3608 Rogers Branch Rd #103\, Wake Forest\, NC\, 27587\, United States
ATTACH;FMTTYPE=image/jpeg:https://birdsnestatblackbird.com/wp-content/uploads/2024/06/Martini-2.jpg
ORGANIZER;CN="Bird's Nest at Blackbird":MAILTO:info@blackbirdbeer.com
END:VEVENT
BEGIN:VEVENT
DTSTART;TZID=America/New_York:20280704T170000
DTEND;TZID=America/New_York:20280704T220000
DTSTAMP:20260420T080703
CREATED:20251114T165403Z
LAST-MODIFIED:20251201T143611Z
UID:10003680-1846342800-1846360800@birdsnestatblackbird.com
SUMMARY:Margarita Night
DESCRIPTION:Tuesdays just got a little more vibrant! Sip\, savor\, and let the good times roll with $1 off margarita flights and $1 off any full-size margarita. Perfect for shaking off the day and raising a glass with friends in our cozy\, hidden-away haven.
URL:https://birdsnestatblackbird.com/event/margarita-night/2028-07-04/
LOCATION:Bird’s Nest at Blackbird\, 3608 Rogers Branch Rd #103\, Wake Forest\, NC\, 27587\, United States
ATTACH;FMTTYPE=image/jpeg:https://birdsnestatblackbird.com/wp-content/uploads/2024/06/Margarita.jpg
ORGANIZER;CN="Bird's Nest at Blackbird":MAILTO:info@blackbirdbeer.com
END:VEVENT
BEGIN:VEVENT
DTSTART;TZID=America/New_York:20280705T170000
DTEND;TZID=America/New_York:20280705T220000
DTSTAMP:20260420T080703
CREATED:20251114T170351Z
LAST-MODIFIED:20251223T195146Z
UID:10003943-1846429200-1846447200@birdsnestatblackbird.com
SUMMARY:Classic Cocktail Night
DESCRIPTION:Step into midweek magic. Every Wednesday\, enjoy $1 off any full-size classic cocktail on the menu. From timeless favorites to expertly crafted classics\, it’s the perfect excuse to explore a taste of elegance and a touch of indulgence.
URL:https://birdsnestatblackbird.com/event/classic-cocktail-night/2028-07-05/
LOCATION:Bird’s Nest at Blackbird\, 3608 Rogers Branch Rd #103\, Wake Forest\, NC\, 27587\, United States
ATTACH;FMTTYPE=image/jpeg:https://birdsnestatblackbird.com/wp-content/uploads/2024/03/Manhattan-1.jpg
ORGANIZER;CN="Bird's Nest at Blackbird":MAILTO:info@blackbirdbeer.com
END:VEVENT
BEGIN:VEVENT
DTSTART;TZID=America/New_York:20280706T170000
DTEND;TZID=America/New_York:20280706T220000
DTSTAMP:20260420T080703
CREATED:20251114T170950Z
LAST-MODIFIED:20251223T200713Z
UID:10004205-1846515600-1846533600@birdsnestatblackbird.com
SUMMARY:Martini Night
DESCRIPTION:Thursdays are for the bold and the refined. Savor $1 off martini flights and $1 off any full-sized martini as you unwind with style. From dry to dirty\, shaken to stirred\, our martinis are crafted to elevate your evening\, one glass at a time.
URL:https://birdsnestatblackbird.com/event/martini-night/2028-07-06/
LOCATION:Bird’s Nest at Blackbird\, 3608 Rogers Branch Rd #103\, Wake Forest\, NC\, 27587\, United States
ATTACH;FMTTYPE=image/jpeg:https://birdsnestatblackbird.com/wp-content/uploads/2024/06/Martini-2.jpg
ORGANIZER;CN="Bird's Nest at Blackbird":MAILTO:info@blackbirdbeer.com
END:VEVENT
BEGIN:VEVENT
DTSTART;TZID=America/New_York:20280711T170000
DTEND;TZID=America/New_York:20280711T220000
DTSTAMP:20260420T080703
CREATED:20251114T165403Z
LAST-MODIFIED:20251201T143611Z
UID:10003681-1846947600-1846965600@birdsnestatblackbird.com
SUMMARY:Margarita Night
DESCRIPTION:Tuesdays just got a little more vibrant! Sip\, savor\, and let the good times roll with $1 off margarita flights and $1 off any full-size margarita. Perfect for shaking off the day and raising a glass with friends in our cozy\, hidden-away haven.
URL:https://birdsnestatblackbird.com/event/margarita-night/2028-07-11/
LOCATION:Bird’s Nest at Blackbird\, 3608 Rogers Branch Rd #103\, Wake Forest\, NC\, 27587\, United States
ATTACH;FMTTYPE=image/jpeg:https://birdsnestatblackbird.com/wp-content/uploads/2024/06/Margarita.jpg
ORGANIZER;CN="Bird's Nest at Blackbird":MAILTO:info@blackbirdbeer.com
END:VEVENT
BEGIN:VEVENT
DTSTART;TZID=America/New_York:20280712T170000
DTEND;TZID=America/New_York:20280712T220000
DTSTAMP:20260420T080703
CREATED:20251114T170351Z
LAST-MODIFIED:20251223T195146Z
UID:10003944-1847034000-1847052000@birdsnestatblackbird.com
SUMMARY:Classic Cocktail Night
DESCRIPTION:Step into midweek magic. Every Wednesday\, enjoy $1 off any full-size classic cocktail on the menu. From timeless favorites to expertly crafted classics\, it’s the perfect excuse to explore a taste of elegance and a touch of indulgence.
URL:https://birdsnestatblackbird.com/event/classic-cocktail-night/2028-07-12/
LOCATION:Bird’s Nest at Blackbird\, 3608 Rogers Branch Rd #103\, Wake Forest\, NC\, 27587\, United States
ATTACH;FMTTYPE=image/jpeg:https://birdsnestatblackbird.com/wp-content/uploads/2024/03/Manhattan-1.jpg
ORGANIZER;CN="Bird's Nest at Blackbird":MAILTO:info@blackbirdbeer.com
END:VEVENT
BEGIN:VEVENT
DTSTART;TZID=America/New_York:20280713T170000
DTEND;TZID=America/New_York:20280713T220000
DTSTAMP:20260420T080703
CREATED:20251114T170950Z
LAST-MODIFIED:20251223T200713Z
UID:10004206-1847120400-1847138400@birdsnestatblackbird.com
SUMMARY:Martini Night
DESCRIPTION:Thursdays are for the bold and the refined. Savor $1 off martini flights and $1 off any full-sized martini as you unwind with style. From dry to dirty\, shaken to stirred\, our martinis are crafted to elevate your evening\, one glass at a time.
URL:https://birdsnestatblackbird.com/event/martini-night/2028-07-13/
LOCATION:Bird’s Nest at Blackbird\, 3608 Rogers Branch Rd #103\, Wake Forest\, NC\, 27587\, United States
ATTACH;FMTTYPE=image/jpeg:https://birdsnestatblackbird.com/wp-content/uploads/2024/06/Martini-2.jpg
ORGANIZER;CN="Bird's Nest at Blackbird":MAILTO:info@blackbirdbeer.com
END:VEVENT
BEGIN:VEVENT
DTSTART;TZID=America/New_York:20280718T170000
DTEND;TZID=America/New_York:20280718T220000
DTSTAMP:20260420T080703
CREATED:20251114T165403Z
LAST-MODIFIED:20251201T143611Z
UID:10003682-1847552400-1847570400@birdsnestatblackbird.com
SUMMARY:Margarita Night
DESCRIPTION:Tuesdays just got a little more vibrant! Sip\, savor\, and let the good times roll with $1 off margarita flights and $1 off any full-size margarita. Perfect for shaking off the day and raising a glass with friends in our cozy\, hidden-away haven.
URL:https://birdsnestatblackbird.com/event/margarita-night/2028-07-18/
LOCATION:Bird’s Nest at Blackbird\, 3608 Rogers Branch Rd #103\, Wake Forest\, NC\, 27587\, United States
ATTACH;FMTTYPE=image/jpeg:https://birdsnestatblackbird.com/wp-content/uploads/2024/06/Margarita.jpg
ORGANIZER;CN="Bird's Nest at Blackbird":MAILTO:info@blackbirdbeer.com
END:VEVENT
BEGIN:VEVENT
DTSTART;TZID=America/New_York:20280719T170000
DTEND;TZID=America/New_York:20280719T220000
DTSTAMP:20260420T080703
CREATED:20251114T170351Z
LAST-MODIFIED:20251223T195146Z
UID:10003945-1847638800-1847656800@birdsnestatblackbird.com
SUMMARY:Classic Cocktail Night
DESCRIPTION:Step into midweek magic. Every Wednesday\, enjoy $1 off any full-size classic cocktail on the menu. From timeless favorites to expertly crafted classics\, it’s the perfect excuse to explore a taste of elegance and a touch of indulgence.
URL:https://birdsnestatblackbird.com/event/classic-cocktail-night/2028-07-19/
LOCATION:Bird’s Nest at Blackbird\, 3608 Rogers Branch Rd #103\, Wake Forest\, NC\, 27587\, United States
ATTACH;FMTTYPE=image/jpeg:https://birdsnestatblackbird.com/wp-content/uploads/2024/03/Manhattan-1.jpg
ORGANIZER;CN="Bird's Nest at Blackbird":MAILTO:info@blackbirdbeer.com
END:VEVENT
BEGIN:VEVENT
DTSTART;TZID=America/New_York:20280720T170000
DTEND;TZID=America/New_York:20280720T220000
DTSTAMP:20260420T080703
CREATED:20251114T170950Z
LAST-MODIFIED:20251223T200713Z
UID:10004207-1847725200-1847743200@birdsnestatblackbird.com
SUMMARY:Martini Night
DESCRIPTION:Thursdays are for the bold and the refined. Savor $1 off martini flights and $1 off any full-sized martini as you unwind with style. From dry to dirty\, shaken to stirred\, our martinis are crafted to elevate your evening\, one glass at a time.
URL:https://birdsnestatblackbird.com/event/martini-night/2028-07-20/
LOCATION:Bird’s Nest at Blackbird\, 3608 Rogers Branch Rd #103\, Wake Forest\, NC\, 27587\, United States
ATTACH;FMTTYPE=image/jpeg:https://birdsnestatblackbird.com/wp-content/uploads/2024/06/Martini-2.jpg
ORGANIZER;CN="Bird's Nest at Blackbird":MAILTO:info@blackbirdbeer.com
END:VEVENT
BEGIN:VEVENT
DTSTART;TZID=America/New_York:20280725T170000
DTEND;TZID=America/New_York:20280725T220000
DTSTAMP:20260420T080703
CREATED:20251114T165403Z
LAST-MODIFIED:20251201T143611Z
UID:10003683-1848157200-1848175200@birdsnestatblackbird.com
SUMMARY:Margarita Night
DESCRIPTION:Tuesdays just got a little more vibrant! Sip\, savor\, and let the good times roll with $1 off margarita flights and $1 off any full-size margarita. Perfect for shaking off the day and raising a glass with friends in our cozy\, hidden-away haven.
URL:https://birdsnestatblackbird.com/event/margarita-night/2028-07-25/
LOCATION:Bird’s Nest at Blackbird\, 3608 Rogers Branch Rd #103\, Wake Forest\, NC\, 27587\, United States
ATTACH;FMTTYPE=image/jpeg:https://birdsnestatblackbird.com/wp-content/uploads/2024/06/Margarita.jpg
ORGANIZER;CN="Bird's Nest at Blackbird":MAILTO:info@blackbirdbeer.com
END:VEVENT
BEGIN:VEVENT
DTSTART;TZID=America/New_York:20280726T170000
DTEND;TZID=America/New_York:20280726T220000
DTSTAMP:20260420T080703
CREATED:20251114T170351Z
LAST-MODIFIED:20251223T195146Z
UID:10003946-1848243600-1848261600@birdsnestatblackbird.com
SUMMARY:Classic Cocktail Night
DESCRIPTION:Step into midweek magic. Every Wednesday\, enjoy $1 off any full-size classic cocktail on the menu. From timeless favorites to expertly crafted classics\, it’s the perfect excuse to explore a taste of elegance and a touch of indulgence.
URL:https://birdsnestatblackbird.com/event/classic-cocktail-night/2028-07-26/
LOCATION:Bird’s Nest at Blackbird\, 3608 Rogers Branch Rd #103\, Wake Forest\, NC\, 27587\, United States
ATTACH;FMTTYPE=image/jpeg:https://birdsnestatblackbird.com/wp-content/uploads/2024/03/Manhattan-1.jpg
ORGANIZER;CN="Bird's Nest at Blackbird":MAILTO:info@blackbirdbeer.com
END:VEVENT
BEGIN:VEVENT
DTSTART;TZID=America/New_York:20280727T170000
DTEND;TZID=America/New_York:20280727T220000
DTSTAMP:20260420T080703
CREATED:20251114T170950Z
LAST-MODIFIED:20251223T200713Z
UID:10004208-1848330000-1848348000@birdsnestatblackbird.com
SUMMARY:Martini Night
DESCRIPTION:Thursdays are for the bold and the refined. Savor $1 off martini flights and $1 off any full-sized martini as you unwind with style. From dry to dirty\, shaken to stirred\, our martinis are crafted to elevate your evening\, one glass at a time.
URL:https://birdsnestatblackbird.com/event/martini-night/2028-07-27/
LOCATION:Bird’s Nest at Blackbird\, 3608 Rogers Branch Rd #103\, Wake Forest\, NC\, 27587\, United States
ATTACH;FMTTYPE=image/jpeg:https://birdsnestatblackbird.com/wp-content/uploads/2024/06/Martini-2.jpg
ORGANIZER;CN="Bird's Nest at Blackbird":MAILTO:info@blackbirdbeer.com
END:VEVENT
BEGIN:VEVENT
DTSTART;TZID=America/New_York:20280801T170000
DTEND;TZID=America/New_York:20280801T220000
DTSTAMP:20260420T080703
CREATED:20251114T165403Z
LAST-MODIFIED:20251201T143611Z
UID:10003684-1848762000-1848780000@birdsnestatblackbird.com
SUMMARY:Margarita Night
DESCRIPTION:Tuesdays just got a little more vibrant! Sip\, savor\, and let the good times roll with $1 off margarita flights and $1 off any full-size margarita. Perfect for shaking off the day and raising a glass with friends in our cozy\, hidden-away haven.
URL:https://birdsnestatblackbird.com/event/margarita-night/2028-08-01/
LOCATION:Bird’s Nest at Blackbird\, 3608 Rogers Branch Rd #103\, Wake Forest\, NC\, 27587\, United States
ATTACH;FMTTYPE=image/jpeg:https://birdsnestatblackbird.com/wp-content/uploads/2024/06/Margarita.jpg
ORGANIZER;CN="Bird's Nest at Blackbird":MAILTO:info@blackbirdbeer.com
END:VEVENT
BEGIN:VEVENT
DTSTART;TZID=America/New_York:20280802T170000
DTEND;TZID=America/New_York:20280802T220000
DTSTAMP:20260420T080703
CREATED:20251114T170351Z
LAST-MODIFIED:20251223T195146Z
UID:10003947-1848848400-1848866400@birdsnestatblackbird.com
SUMMARY:Classic Cocktail Night
DESCRIPTION:Step into midweek magic. Every Wednesday\, enjoy $1 off any full-size classic cocktail on the menu. From timeless favorites to expertly crafted classics\, it’s the perfect excuse to explore a taste of elegance and a touch of indulgence.
URL:https://birdsnestatblackbird.com/event/classic-cocktail-night/2028-08-02/
LOCATION:Bird’s Nest at Blackbird\, 3608 Rogers Branch Rd #103\, Wake Forest\, NC\, 27587\, United States
ATTACH;FMTTYPE=image/jpeg:https://birdsnestatblackbird.com/wp-content/uploads/2024/03/Manhattan-1.jpg
ORGANIZER;CN="Bird's Nest at Blackbird":MAILTO:info@blackbirdbeer.com
END:VEVENT
BEGIN:VEVENT
DTSTART;TZID=America/New_York:20280803T170000
DTEND;TZID=America/New_York:20280803T220000
DTSTAMP:20260420T080703
CREATED:20251114T170950Z
LAST-MODIFIED:20251223T200713Z
UID:10004209-1848934800-1848952800@birdsnestatblackbird.com
SUMMARY:Martini Night
DESCRIPTION:Thursdays are for the bold and the refined. Savor $1 off martini flights and $1 off any full-sized martini as you unwind with style. From dry to dirty\, shaken to stirred\, our martinis are crafted to elevate your evening\, one glass at a time.
URL:https://birdsnestatblackbird.com/event/martini-night/2028-08-03/
LOCATION:Bird’s Nest at Blackbird\, 3608 Rogers Branch Rd #103\, Wake Forest\, NC\, 27587\, United States
ATTACH;FMTTYPE=image/jpeg:https://birdsnestatblackbird.com/wp-content/uploads/2024/06/Martini-2.jpg
ORGANIZER;CN="Bird's Nest at Blackbird":MAILTO:info@blackbirdbeer.com
END:VEVENT
BEGIN:VEVENT
DTSTART;TZID=America/New_York:20280808T170000
DTEND;TZID=America/New_York:20280808T220000
DTSTAMP:20260420T080703
CREATED:20251114T165403Z
LAST-MODIFIED:20251201T143611Z
UID:10003685-1849366800-1849384800@birdsnestatblackbird.com
SUMMARY:Margarita Night
DESCRIPTION:Tuesdays just got a little more vibrant! Sip\, savor\, and let the good times roll with $1 off margarita flights and $1 off any full-size margarita. Perfect for shaking off the day and raising a glass with friends in our cozy\, hidden-away haven.
URL:https://birdsnestatblackbird.com/event/margarita-night/2028-08-08/
LOCATION:Bird’s Nest at Blackbird\, 3608 Rogers Branch Rd #103\, Wake Forest\, NC\, 27587\, United States
ATTACH;FMTTYPE=image/jpeg:https://birdsnestatblackbird.com/wp-content/uploads/2024/06/Margarita.jpg
ORGANIZER;CN="Bird's Nest at Blackbird":MAILTO:info@blackbirdbeer.com
END:VEVENT
BEGIN:VEVENT
DTSTART;TZID=America/New_York:20280809T170000
DTEND;TZID=America/New_York:20280809T220000
DTSTAMP:20260420T080703
CREATED:20251114T170351Z
LAST-MODIFIED:20251223T195146Z
UID:10003948-1849453200-1849471200@birdsnestatblackbird.com
SUMMARY:Classic Cocktail Night
DESCRIPTION:Step into midweek magic. Every Wednesday\, enjoy $1 off any full-size classic cocktail on the menu. From timeless favorites to expertly crafted classics\, it’s the perfect excuse to explore a taste of elegance and a touch of indulgence.
URL:https://birdsnestatblackbird.com/event/classic-cocktail-night/2028-08-09/
LOCATION:Bird’s Nest at Blackbird\, 3608 Rogers Branch Rd #103\, Wake Forest\, NC\, 27587\, United States
ATTACH;FMTTYPE=image/jpeg:https://birdsnestatblackbird.com/wp-content/uploads/2024/03/Manhattan-1.jpg
ORGANIZER;CN="Bird's Nest at Blackbird":MAILTO:info@blackbirdbeer.com
END:VEVENT
BEGIN:VEVENT
DTSTART;TZID=America/New_York:20280810T170000
DTEND;TZID=America/New_York:20280810T220000
DTSTAMP:20260420T080703
CREATED:20251114T170950Z
LAST-MODIFIED:20251223T200713Z
UID:10004210-1849539600-1849557600@birdsnestatblackbird.com
SUMMARY:Martini Night
DESCRIPTION:Thursdays are for the bold and the refined. Savor $1 off martini flights and $1 off any full-sized martini as you unwind with style. From dry to dirty\, shaken to stirred\, our martinis are crafted to elevate your evening\, one glass at a time.
URL:https://birdsnestatblackbird.com/event/martini-night/2028-08-10/
LOCATION:Bird’s Nest at Blackbird\, 3608 Rogers Branch Rd #103\, Wake Forest\, NC\, 27587\, United States
ATTACH;FMTTYPE=image/jpeg:https://birdsnestatblackbird.com/wp-content/uploads/2024/06/Martini-2.jpg
ORGANIZER;CN="Bird's Nest at Blackbird":MAILTO:info@blackbirdbeer.com
END:VEVENT
BEGIN:VEVENT
DTSTART;TZID=America/New_York:20280815T170000
DTEND;TZID=America/New_York:20280815T220000
DTSTAMP:20260420T080703
CREATED:20251114T165403Z
LAST-MODIFIED:20251201T143611Z
UID:10003686-1849971600-1849989600@birdsnestatblackbird.com
SUMMARY:Margarita Night
DESCRIPTION:Tuesdays just got a little more vibrant! Sip\, savor\, and let the good times roll with $1 off margarita flights and $1 off any full-size margarita. Perfect for shaking off the day and raising a glass with friends in our cozy\, hidden-away haven.
URL:https://birdsnestatblackbird.com/event/margarita-night/2028-08-15/
LOCATION:Bird’s Nest at Blackbird\, 3608 Rogers Branch Rd #103\, Wake Forest\, NC\, 27587\, United States
ATTACH;FMTTYPE=image/jpeg:https://birdsnestatblackbird.com/wp-content/uploads/2024/06/Margarita.jpg
ORGANIZER;CN="Bird's Nest at Blackbird":MAILTO:info@blackbirdbeer.com
END:VEVENT
BEGIN:VEVENT
DTSTART;TZID=America/New_York:20280816T170000
DTEND;TZID=America/New_York:20280816T220000
DTSTAMP:20260420T080703
CREATED:20251114T170351Z
LAST-MODIFIED:20251223T195146Z
UID:10003949-1850058000-1850076000@birdsnestatblackbird.com
SUMMARY:Classic Cocktail Night
DESCRIPTION:Step into midweek magic. Every Wednesday\, enjoy $1 off any full-size classic cocktail on the menu. From timeless favorites to expertly crafted classics\, it’s the perfect excuse to explore a taste of elegance and a touch of indulgence.
URL:https://birdsnestatblackbird.com/event/classic-cocktail-night/2028-08-16/
LOCATION:Bird’s Nest at Blackbird\, 3608 Rogers Branch Rd #103\, Wake Forest\, NC\, 27587\, United States
ATTACH;FMTTYPE=image/jpeg:https://birdsnestatblackbird.com/wp-content/uploads/2024/03/Manhattan-1.jpg
ORGANIZER;CN="Bird's Nest at Blackbird":MAILTO:info@blackbirdbeer.com
END:VEVENT
BEGIN:VEVENT
DTSTART;TZID=America/New_York:20280817T170000
DTEND;TZID=America/New_York:20280817T220000
DTSTAMP:20260420T080703
CREATED:20251114T170950Z
LAST-MODIFIED:20251223T200713Z
UID:10004211-1850144400-1850162400@birdsnestatblackbird.com
SUMMARY:Martini Night
DESCRIPTION:Thursdays are for the bold and the refined. Savor $1 off martini flights and $1 off any full-sized martini as you unwind with style. From dry to dirty\, shaken to stirred\, our martinis are crafted to elevate your evening\, one glass at a time.
URL:https://birdsnestatblackbird.com/event/martini-night/2028-08-17/
LOCATION:Bird’s Nest at Blackbird\, 3608 Rogers Branch Rd #103\, Wake Forest\, NC\, 27587\, United States
ATTACH;FMTTYPE=image/jpeg:https://birdsnestatblackbird.com/wp-content/uploads/2024/06/Martini-2.jpg
ORGANIZER;CN="Bird's Nest at Blackbird":MAILTO:info@blackbirdbeer.com
END:VEVENT
BEGIN:VEVENT
DTSTART;TZID=America/New_York:20280822T170000
DTEND;TZID=America/New_York:20280822T220000
DTSTAMP:20260420T080703
CREATED:20251114T165403Z
LAST-MODIFIED:20251201T143611Z
UID:10003687-1850576400-1850594400@birdsnestatblackbird.com
SUMMARY:Margarita Night
DESCRIPTION:Tuesdays just got a little more vibrant! Sip\, savor\, and let the good times roll with $1 off margarita flights and $1 off any full-size margarita. Perfect for shaking off the day and raising a glass with friends in our cozy\, hidden-away haven.
URL:https://birdsnestatblackbird.com/event/margarita-night/2028-08-22/
LOCATION:Bird’s Nest at Blackbird\, 3608 Rogers Branch Rd #103\, Wake Forest\, NC\, 27587\, United States
ATTACH;FMTTYPE=image/jpeg:https://birdsnestatblackbird.com/wp-content/uploads/2024/06/Margarita.jpg
ORGANIZER;CN="Bird's Nest at Blackbird":MAILTO:info@blackbirdbeer.com
END:VEVENT
BEGIN:VEVENT
DTSTART;TZID=America/New_York:20280823T170000
DTEND;TZID=America/New_York:20280823T220000
DTSTAMP:20260420T080703
CREATED:20251114T170351Z
LAST-MODIFIED:20251223T195146Z
UID:10003950-1850662800-1850680800@birdsnestatblackbird.com
SUMMARY:Classic Cocktail Night
DESCRIPTION:Step into midweek magic. Every Wednesday\, enjoy $1 off any full-size classic cocktail on the menu. From timeless favorites to expertly crafted classics\, it’s the perfect excuse to explore a taste of elegance and a touch of indulgence.
URL:https://birdsnestatblackbird.com/event/classic-cocktail-night/2028-08-23/
LOCATION:Bird’s Nest at Blackbird\, 3608 Rogers Branch Rd #103\, Wake Forest\, NC\, 27587\, United States
ATTACH;FMTTYPE=image/jpeg:https://birdsnestatblackbird.com/wp-content/uploads/2024/03/Manhattan-1.jpg
ORGANIZER;CN="Bird's Nest at Blackbird":MAILTO:info@blackbirdbeer.com
END:VEVENT
BEGIN:VEVENT
DTSTART;TZID=America/New_York:20280824T170000
DTEND;TZID=America/New_York:20280824T220000
DTSTAMP:20260420T080703
CREATED:20251114T170950Z
LAST-MODIFIED:20251223T200713Z
UID:10004212-1850749200-1850767200@birdsnestatblackbird.com
SUMMARY:Martini Night
DESCRIPTION:Thursdays are for the bold and the refined. Savor $1 off martini flights and $1 off any full-sized martini as you unwind with style. From dry to dirty\, shaken to stirred\, our martinis are crafted to elevate your evening\, one glass at a time.
URL:https://birdsnestatblackbird.com/event/martini-night/2028-08-24/
LOCATION:Bird’s Nest at Blackbird\, 3608 Rogers Branch Rd #103\, Wake Forest\, NC\, 27587\, United States
ATTACH;FMTTYPE=image/jpeg:https://birdsnestatblackbird.com/wp-content/uploads/2024/06/Martini-2.jpg
ORGANIZER;CN="Bird's Nest at Blackbird":MAILTO:info@blackbirdbeer.com
END:VEVENT
BEGIN:VEVENT
DTSTART;TZID=America/New_York:20280829T170000
DTEND;TZID=America/New_York:20280829T220000
DTSTAMP:20260420T080703
CREATED:20251114T165403Z
LAST-MODIFIED:20251201T143611Z
UID:10003688-1851181200-1851199200@birdsnestatblackbird.com
SUMMARY:Margarita Night
DESCRIPTION:Tuesdays just got a little more vibrant! Sip\, savor\, and let the good times roll with $1 off margarita flights and $1 off any full-size margarita. Perfect for shaking off the day and raising a glass with friends in our cozy\, hidden-away haven.
URL:https://birdsnestatblackbird.com/event/margarita-night/2028-08-29/
LOCATION:Bird’s Nest at Blackbird\, 3608 Rogers Branch Rd #103\, Wake Forest\, NC\, 27587\, United States
ATTACH;FMTTYPE=image/jpeg:https://birdsnestatblackbird.com/wp-content/uploads/2024/06/Margarita.jpg
ORGANIZER;CN="Bird's Nest at Blackbird":MAILTO:info@blackbirdbeer.com
END:VEVENT
BEGIN:VEVENT
DTSTART;TZID=America/New_York:20280830T170000
DTEND;TZID=America/New_York:20280830T220000
DTSTAMP:20260420T080703
CREATED:20251114T170351Z
LAST-MODIFIED:20251223T195146Z
UID:10003951-1851267600-1851285600@birdsnestatblackbird.com
SUMMARY:Classic Cocktail Night
DESCRIPTION:Step into midweek magic. Every Wednesday\, enjoy $1 off any full-size classic cocktail on the menu. From timeless favorites to expertly crafted classics\, it’s the perfect excuse to explore a taste of elegance and a touch of indulgence.
URL:https://birdsnestatblackbird.com/event/classic-cocktail-night/2028-08-30/
LOCATION:Bird’s Nest at Blackbird\, 3608 Rogers Branch Rd #103\, Wake Forest\, NC\, 27587\, United States
ATTACH;FMTTYPE=image/jpeg:https://birdsnestatblackbird.com/wp-content/uploads/2024/03/Manhattan-1.jpg
ORGANIZER;CN="Bird's Nest at Blackbird":MAILTO:info@blackbirdbeer.com
END:VEVENT
BEGIN:VEVENT
DTSTART;TZID=America/New_York:20280831T170000
DTEND;TZID=America/New_York:20280831T220000
DTSTAMP:20260420T080703
CREATED:20251114T170950Z
LAST-MODIFIED:20251223T200713Z
UID:10004213-1851354000-1851372000@birdsnestatblackbird.com
SUMMARY:Martini Night
DESCRIPTION:Thursdays are for the bold and the refined. Savor $1 off martini flights and $1 off any full-sized martini as you unwind with style. From dry to dirty\, shaken to stirred\, our martinis are crafted to elevate your evening\, one glass at a time.
URL:https://birdsnestatblackbird.com/event/martini-night/2028-08-31/
LOCATION:Bird’s Nest at Blackbird\, 3608 Rogers Branch Rd #103\, Wake Forest\, NC\, 27587\, United States
ATTACH;FMTTYPE=image/jpeg:https://birdsnestatblackbird.com/wp-content/uploads/2024/06/Martini-2.jpg
ORGANIZER;CN="Bird's Nest at Blackbird":MAILTO:info@blackbirdbeer.com
END:VEVENT
BEGIN:VEVENT
DTSTART;TZID=America/New_York:20280905T170000
DTEND;TZID=America/New_York:20280905T220000
DTSTAMP:20260420T080703
CREATED:20251114T165403Z
LAST-MODIFIED:20251201T143611Z
UID:10003689-1851786000-1851804000@birdsnestatblackbird.com
SUMMARY:Margarita Night
DESCRIPTION:Tuesdays just got a little more vibrant! Sip\, savor\, and let the good times roll with $1 off margarita flights and $1 off any full-size margarita. Perfect for shaking off the day and raising a glass with friends in our cozy\, hidden-away haven.
URL:https://birdsnestatblackbird.com/event/margarita-night/2028-09-05/
LOCATION:Bird’s Nest at Blackbird\, 3608 Rogers Branch Rd #103\, Wake Forest\, NC\, 27587\, United States
ATTACH;FMTTYPE=image/jpeg:https://birdsnestatblackbird.com/wp-content/uploads/2024/06/Margarita.jpg
ORGANIZER;CN="Bird's Nest at Blackbird":MAILTO:info@blackbirdbeer.com
END:VEVENT
END:VCALENDAR