BEGIN:VCALENDAR
VERSION:2.0
PRODID:-//Bird&#039;s Nest at Blackbird - ECPv6.15.18//NONSGML v1.0//EN
CALSCALE:GREGORIAN
METHOD:PUBLISH
X-WR-CALNAME:Bird&#039;s Nest at Blackbird
X-ORIGINAL-URL:https://birdsnestatblackbird.com
X-WR-CALDESC:Events for Bird&#039;s Nest at Blackbird
REFRESH-INTERVAL;VALUE=DURATION:PT1H
X-Robots-Tag:noindex
X-PUBLISHED-TTL:PT1H
BEGIN:VTIMEZONE
TZID:America/New_York
BEGIN:DAYLIGHT
TZOFFSETFROM:-0500
TZOFFSETTO:-0400
TZNAME:EDT
DTSTART:20250309T070000
END:DAYLIGHT
BEGIN:STANDARD
TZOFFSETFROM:-0400
TZOFFSETTO:-0500
TZNAME:EST
DTSTART:20251102T060000
END:STANDARD
BEGIN:DAYLIGHT
TZOFFSETFROM:-0500
TZOFFSETTO:-0400
TZNAME:EDT
DTSTART:20260308T070000
END:DAYLIGHT
BEGIN:STANDARD
TZOFFSETFROM:-0400
TZOFFSETTO:-0500
TZNAME:EST
DTSTART:20261101T060000
END:STANDARD
BEGIN:DAYLIGHT
TZOFFSETFROM:-0500
TZOFFSETTO:-0400
TZNAME:EDT
DTSTART:20270314T070000
END:DAYLIGHT
BEGIN:STANDARD
TZOFFSETFROM:-0400
TZOFFSETTO:-0500
TZNAME:EST
DTSTART:20271107T060000
END:STANDARD
END:VTIMEZONE
BEGIN:VEVENT
DTSTART;TZID=America/New_York:20260421T170000
DTEND;TZID=America/New_York:20260421T220000
DTSTAMP:20260419T164320
CREATED:20251114T165403Z
LAST-MODIFIED:20251201T143611Z
UID:10003565-1776790800-1776808800@birdsnestatblackbird.com
SUMMARY:Margarita Night
DESCRIPTION:Tuesdays just got a little more vibrant! Sip\, savor\, and let the good times roll with $1 off margarita flights and $1 off any full-size margarita. Perfect for shaking off the day and raising a glass with friends in our cozy\, hidden-away haven.
URL:https://birdsnestatblackbird.com/event/margarita-night/2026-04-21/
LOCATION:Bird’s Nest at Blackbird\, 3608 Rogers Branch Rd #103\, Wake Forest\, NC\, 27587\, United States
ATTACH;FMTTYPE=image/jpeg:https://birdsnestatblackbird.com/wp-content/uploads/2024/06/Margarita.jpg
ORGANIZER;CN="Bird's Nest at Blackbird":MAILTO:info@blackbirdbeer.com
END:VEVENT
BEGIN:VEVENT
DTSTART;TZID=America/New_York:20260428T170000
DTEND;TZID=America/New_York:20260428T220000
DTSTAMP:20260419T164320
CREATED:20251114T165403Z
LAST-MODIFIED:20251201T143611Z
UID:10003566-1777395600-1777413600@birdsnestatblackbird.com
SUMMARY:Margarita Night
DESCRIPTION:Tuesdays just got a little more vibrant! Sip\, savor\, and let the good times roll with $1 off margarita flights and $1 off any full-size margarita. Perfect for shaking off the day and raising a glass with friends in our cozy\, hidden-away haven.
URL:https://birdsnestatblackbird.com/event/margarita-night/2026-04-28/
LOCATION:Bird’s Nest at Blackbird\, 3608 Rogers Branch Rd #103\, Wake Forest\, NC\, 27587\, United States
ATTACH;FMTTYPE=image/jpeg:https://birdsnestatblackbird.com/wp-content/uploads/2024/06/Margarita.jpg
ORGANIZER;CN="Bird's Nest at Blackbird":MAILTO:info@blackbirdbeer.com
END:VEVENT
BEGIN:VEVENT
DTSTART;TZID=America/New_York:20260505T170000
DTEND;TZID=America/New_York:20260505T220000
DTSTAMP:20260419T164320
CREATED:20251114T165403Z
LAST-MODIFIED:20251201T143611Z
UID:10003567-1778000400-1778018400@birdsnestatblackbird.com
SUMMARY:Margarita Night
DESCRIPTION:Tuesdays just got a little more vibrant! Sip\, savor\, and let the good times roll with $1 off margarita flights and $1 off any full-size margarita. Perfect for shaking off the day and raising a glass with friends in our cozy\, hidden-away haven.
URL:https://birdsnestatblackbird.com/event/margarita-night/2026-05-05/
LOCATION:Bird’s Nest at Blackbird\, 3608 Rogers Branch Rd #103\, Wake Forest\, NC\, 27587\, United States
ATTACH;FMTTYPE=image/jpeg:https://birdsnestatblackbird.com/wp-content/uploads/2024/06/Margarita.jpg
ORGANIZER;CN="Bird's Nest at Blackbird":MAILTO:info@blackbirdbeer.com
END:VEVENT
BEGIN:VEVENT
DTSTART;TZID=America/New_York:20260512T170000
DTEND;TZID=America/New_York:20260512T220000
DTSTAMP:20260419T164320
CREATED:20251114T165403Z
LAST-MODIFIED:20251201T143611Z
UID:10003568-1778605200-1778623200@birdsnestatblackbird.com
SUMMARY:Margarita Night
DESCRIPTION:Tuesdays just got a little more vibrant! Sip\, savor\, and let the good times roll with $1 off margarita flights and $1 off any full-size margarita. Perfect for shaking off the day and raising a glass with friends in our cozy\, hidden-away haven.
URL:https://birdsnestatblackbird.com/event/margarita-night/2026-05-12/
LOCATION:Bird’s Nest at Blackbird\, 3608 Rogers Branch Rd #103\, Wake Forest\, NC\, 27587\, United States
ATTACH;FMTTYPE=image/jpeg:https://birdsnestatblackbird.com/wp-content/uploads/2024/06/Margarita.jpg
ORGANIZER;CN="Bird's Nest at Blackbird":MAILTO:info@blackbirdbeer.com
END:VEVENT
BEGIN:VEVENT
DTSTART;TZID=America/New_York:20260519T170000
DTEND;TZID=America/New_York:20260519T220000
DTSTAMP:20260419T164320
CREATED:20251114T165403Z
LAST-MODIFIED:20251201T143611Z
UID:10003569-1779210000-1779228000@birdsnestatblackbird.com
SUMMARY:Margarita Night
DESCRIPTION:Tuesdays just got a little more vibrant! Sip\, savor\, and let the good times roll with $1 off margarita flights and $1 off any full-size margarita. Perfect for shaking off the day and raising a glass with friends in our cozy\, hidden-away haven.
URL:https://birdsnestatblackbird.com/event/margarita-night/2026-05-19/
LOCATION:Bird’s Nest at Blackbird\, 3608 Rogers Branch Rd #103\, Wake Forest\, NC\, 27587\, United States
ATTACH;FMTTYPE=image/jpeg:https://birdsnestatblackbird.com/wp-content/uploads/2024/06/Margarita.jpg
ORGANIZER;CN="Bird's Nest at Blackbird":MAILTO:info@blackbirdbeer.com
END:VEVENT
BEGIN:VEVENT
DTSTART;TZID=America/New_York:20260526T170000
DTEND;TZID=America/New_York:20260526T220000
DTSTAMP:20260419T164320
CREATED:20251114T165403Z
LAST-MODIFIED:20251201T143611Z
UID:10003570-1779814800-1779832800@birdsnestatblackbird.com
SUMMARY:Margarita Night
DESCRIPTION:Tuesdays just got a little more vibrant! Sip\, savor\, and let the good times roll with $1 off margarita flights and $1 off any full-size margarita. Perfect for shaking off the day and raising a glass with friends in our cozy\, hidden-away haven.
URL:https://birdsnestatblackbird.com/event/margarita-night/2026-05-26/
LOCATION:Bird’s Nest at Blackbird\, 3608 Rogers Branch Rd #103\, Wake Forest\, NC\, 27587\, United States
ATTACH;FMTTYPE=image/jpeg:https://birdsnestatblackbird.com/wp-content/uploads/2024/06/Margarita.jpg
ORGANIZER;CN="Bird's Nest at Blackbird":MAILTO:info@blackbirdbeer.com
END:VEVENT
BEGIN:VEVENT
DTSTART;TZID=America/New_York:20260602T170000
DTEND;TZID=America/New_York:20260602T220000
DTSTAMP:20260419T164320
CREATED:20251114T165403Z
LAST-MODIFIED:20251201T143611Z
UID:10003571-1780419600-1780437600@birdsnestatblackbird.com
SUMMARY:Margarita Night
DESCRIPTION:Tuesdays just got a little more vibrant! Sip\, savor\, and let the good times roll with $1 off margarita flights and $1 off any full-size margarita. Perfect for shaking off the day and raising a glass with friends in our cozy\, hidden-away haven.
URL:https://birdsnestatblackbird.com/event/margarita-night/2026-06-02/
LOCATION:Bird’s Nest at Blackbird\, 3608 Rogers Branch Rd #103\, Wake Forest\, NC\, 27587\, United States
ATTACH;FMTTYPE=image/jpeg:https://birdsnestatblackbird.com/wp-content/uploads/2024/06/Margarita.jpg
ORGANIZER;CN="Bird's Nest at Blackbird":MAILTO:info@blackbirdbeer.com
END:VEVENT
BEGIN:VEVENT
DTSTART;TZID=America/New_York:20260609T170000
DTEND;TZID=America/New_York:20260609T220000
DTSTAMP:20260419T164320
CREATED:20251114T165403Z
LAST-MODIFIED:20251201T143611Z
UID:10003572-1781024400-1781042400@birdsnestatblackbird.com
SUMMARY:Margarita Night
DESCRIPTION:Tuesdays just got a little more vibrant! Sip\, savor\, and let the good times roll with $1 off margarita flights and $1 off any full-size margarita. Perfect for shaking off the day and raising a glass with friends in our cozy\, hidden-away haven.
URL:https://birdsnestatblackbird.com/event/margarita-night/2026-06-09/
LOCATION:Bird’s Nest at Blackbird\, 3608 Rogers Branch Rd #103\, Wake Forest\, NC\, 27587\, United States
ATTACH;FMTTYPE=image/jpeg:https://birdsnestatblackbird.com/wp-content/uploads/2024/06/Margarita.jpg
ORGANIZER;CN="Bird's Nest at Blackbird":MAILTO:info@blackbirdbeer.com
END:VEVENT
BEGIN:VEVENT
DTSTART;TZID=America/New_York:20260616T170000
DTEND;TZID=America/New_York:20260616T220000
DTSTAMP:20260419T164320
CREATED:20251114T165403Z
LAST-MODIFIED:20251201T143611Z
UID:10003573-1781629200-1781647200@birdsnestatblackbird.com
SUMMARY:Margarita Night
DESCRIPTION:Tuesdays just got a little more vibrant! Sip\, savor\, and let the good times roll with $1 off margarita flights and $1 off any full-size margarita. Perfect for shaking off the day and raising a glass with friends in our cozy\, hidden-away haven.
URL:https://birdsnestatblackbird.com/event/margarita-night/2026-06-16/
LOCATION:Bird’s Nest at Blackbird\, 3608 Rogers Branch Rd #103\, Wake Forest\, NC\, 27587\, United States
ATTACH;FMTTYPE=image/jpeg:https://birdsnestatblackbird.com/wp-content/uploads/2024/06/Margarita.jpg
ORGANIZER;CN="Bird's Nest at Blackbird":MAILTO:info@blackbirdbeer.com
END:VEVENT
BEGIN:VEVENT
DTSTART;TZID=America/New_York:20260623T170000
DTEND;TZID=America/New_York:20260623T220000
DTSTAMP:20260419T164320
CREATED:20251114T165403Z
LAST-MODIFIED:20251201T143611Z
UID:10003574-1782234000-1782252000@birdsnestatblackbird.com
SUMMARY:Margarita Night
DESCRIPTION:Tuesdays just got a little more vibrant! Sip\, savor\, and let the good times roll with $1 off margarita flights and $1 off any full-size margarita. Perfect for shaking off the day and raising a glass with friends in our cozy\, hidden-away haven.
URL:https://birdsnestatblackbird.com/event/margarita-night/2026-06-23/
LOCATION:Bird’s Nest at Blackbird\, 3608 Rogers Branch Rd #103\, Wake Forest\, NC\, 27587\, United States
ATTACH;FMTTYPE=image/jpeg:https://birdsnestatblackbird.com/wp-content/uploads/2024/06/Margarita.jpg
ORGANIZER;CN="Bird's Nest at Blackbird":MAILTO:info@blackbirdbeer.com
END:VEVENT
BEGIN:VEVENT
DTSTART;TZID=America/New_York:20260630T170000
DTEND;TZID=America/New_York:20260630T220000
DTSTAMP:20260419T164320
CREATED:20251114T165403Z
LAST-MODIFIED:20251201T143611Z
UID:10003575-1782838800-1782856800@birdsnestatblackbird.com
SUMMARY:Margarita Night
DESCRIPTION:Tuesdays just got a little more vibrant! Sip\, savor\, and let the good times roll with $1 off margarita flights and $1 off any full-size margarita. Perfect for shaking off the day and raising a glass with friends in our cozy\, hidden-away haven.
URL:https://birdsnestatblackbird.com/event/margarita-night/2026-06-30/
LOCATION:Bird’s Nest at Blackbird\, 3608 Rogers Branch Rd #103\, Wake Forest\, NC\, 27587\, United States
ATTACH;FMTTYPE=image/jpeg:https://birdsnestatblackbird.com/wp-content/uploads/2024/06/Margarita.jpg
ORGANIZER;CN="Bird's Nest at Blackbird":MAILTO:info@blackbirdbeer.com
END:VEVENT
BEGIN:VEVENT
DTSTART;TZID=America/New_York:20260707T170000
DTEND;TZID=America/New_York:20260707T220000
DTSTAMP:20260419T164320
CREATED:20251114T165403Z
LAST-MODIFIED:20251201T143611Z
UID:10003576-1783443600-1783461600@birdsnestatblackbird.com
SUMMARY:Margarita Night
DESCRIPTION:Tuesdays just got a little more vibrant! Sip\, savor\, and let the good times roll with $1 off margarita flights and $1 off any full-size margarita. Perfect for shaking off the day and raising a glass with friends in our cozy\, hidden-away haven.
URL:https://birdsnestatblackbird.com/event/margarita-night/2026-07-07/
LOCATION:Bird’s Nest at Blackbird\, 3608 Rogers Branch Rd #103\, Wake Forest\, NC\, 27587\, United States
ATTACH;FMTTYPE=image/jpeg:https://birdsnestatblackbird.com/wp-content/uploads/2024/06/Margarita.jpg
ORGANIZER;CN="Bird's Nest at Blackbird":MAILTO:info@blackbirdbeer.com
END:VEVENT
BEGIN:VEVENT
DTSTART;TZID=America/New_York:20260714T170000
DTEND;TZID=America/New_York:20260714T220000
DTSTAMP:20260419T164320
CREATED:20251114T165403Z
LAST-MODIFIED:20251201T143611Z
UID:10003577-1784048400-1784066400@birdsnestatblackbird.com
SUMMARY:Margarita Night
DESCRIPTION:Tuesdays just got a little more vibrant! Sip\, savor\, and let the good times roll with $1 off margarita flights and $1 off any full-size margarita. Perfect for shaking off the day and raising a glass with friends in our cozy\, hidden-away haven.
URL:https://birdsnestatblackbird.com/event/margarita-night/2026-07-14/
LOCATION:Bird’s Nest at Blackbird\, 3608 Rogers Branch Rd #103\, Wake Forest\, NC\, 27587\, United States
ATTACH;FMTTYPE=image/jpeg:https://birdsnestatblackbird.com/wp-content/uploads/2024/06/Margarita.jpg
ORGANIZER;CN="Bird's Nest at Blackbird":MAILTO:info@blackbirdbeer.com
END:VEVENT
BEGIN:VEVENT
DTSTART;TZID=America/New_York:20260721T170000
DTEND;TZID=America/New_York:20260721T220000
DTSTAMP:20260419T164320
CREATED:20251114T165403Z
LAST-MODIFIED:20251201T143611Z
UID:10003578-1784653200-1784671200@birdsnestatblackbird.com
SUMMARY:Margarita Night
DESCRIPTION:Tuesdays just got a little more vibrant! Sip\, savor\, and let the good times roll with $1 off margarita flights and $1 off any full-size margarita. Perfect for shaking off the day and raising a glass with friends in our cozy\, hidden-away haven.
URL:https://birdsnestatblackbird.com/event/margarita-night/2026-07-21/
LOCATION:Bird’s Nest at Blackbird\, 3608 Rogers Branch Rd #103\, Wake Forest\, NC\, 27587\, United States
ATTACH;FMTTYPE=image/jpeg:https://birdsnestatblackbird.com/wp-content/uploads/2024/06/Margarita.jpg
ORGANIZER;CN="Bird's Nest at Blackbird":MAILTO:info@blackbirdbeer.com
END:VEVENT
BEGIN:VEVENT
DTSTART;TZID=America/New_York:20260728T170000
DTEND;TZID=America/New_York:20260728T220000
DTSTAMP:20260419T164320
CREATED:20251114T165403Z
LAST-MODIFIED:20251201T143611Z
UID:10003579-1785258000-1785276000@birdsnestatblackbird.com
SUMMARY:Margarita Night
DESCRIPTION:Tuesdays just got a little more vibrant! Sip\, savor\, and let the good times roll with $1 off margarita flights and $1 off any full-size margarita. Perfect for shaking off the day and raising a glass with friends in our cozy\, hidden-away haven.
URL:https://birdsnestatblackbird.com/event/margarita-night/2026-07-28/
LOCATION:Bird’s Nest at Blackbird\, 3608 Rogers Branch Rd #103\, Wake Forest\, NC\, 27587\, United States
ATTACH;FMTTYPE=image/jpeg:https://birdsnestatblackbird.com/wp-content/uploads/2024/06/Margarita.jpg
ORGANIZER;CN="Bird's Nest at Blackbird":MAILTO:info@blackbirdbeer.com
END:VEVENT
BEGIN:VEVENT
DTSTART;TZID=America/New_York:20260804T170000
DTEND;TZID=America/New_York:20260804T220000
DTSTAMP:20260419T164320
CREATED:20251114T165403Z
LAST-MODIFIED:20251201T143611Z
UID:10003580-1785862800-1785880800@birdsnestatblackbird.com
SUMMARY:Margarita Night
DESCRIPTION:Tuesdays just got a little more vibrant! Sip\, savor\, and let the good times roll with $1 off margarita flights and $1 off any full-size margarita. Perfect for shaking off the day and raising a glass with friends in our cozy\, hidden-away haven.
URL:https://birdsnestatblackbird.com/event/margarita-night/2026-08-04/
LOCATION:Bird’s Nest at Blackbird\, 3608 Rogers Branch Rd #103\, Wake Forest\, NC\, 27587\, United States
ATTACH;FMTTYPE=image/jpeg:https://birdsnestatblackbird.com/wp-content/uploads/2024/06/Margarita.jpg
ORGANIZER;CN="Bird's Nest at Blackbird":MAILTO:info@blackbirdbeer.com
END:VEVENT
BEGIN:VEVENT
DTSTART;TZID=America/New_York:20260811T170000
DTEND;TZID=America/New_York:20260811T220000
DTSTAMP:20260419T164320
CREATED:20251114T165403Z
LAST-MODIFIED:20251201T143611Z
UID:10003581-1786467600-1786485600@birdsnestatblackbird.com
SUMMARY:Margarita Night
DESCRIPTION:Tuesdays just got a little more vibrant! Sip\, savor\, and let the good times roll with $1 off margarita flights and $1 off any full-size margarita. Perfect for shaking off the day and raising a glass with friends in our cozy\, hidden-away haven.
URL:https://birdsnestatblackbird.com/event/margarita-night/2026-08-11/
LOCATION:Bird’s Nest at Blackbird\, 3608 Rogers Branch Rd #103\, Wake Forest\, NC\, 27587\, United States
ATTACH;FMTTYPE=image/jpeg:https://birdsnestatblackbird.com/wp-content/uploads/2024/06/Margarita.jpg
ORGANIZER;CN="Bird's Nest at Blackbird":MAILTO:info@blackbirdbeer.com
END:VEVENT
BEGIN:VEVENT
DTSTART;TZID=America/New_York:20260818T170000
DTEND;TZID=America/New_York:20260818T220000
DTSTAMP:20260419T164320
CREATED:20251114T165403Z
LAST-MODIFIED:20251201T143611Z
UID:10003582-1787072400-1787090400@birdsnestatblackbird.com
SUMMARY:Margarita Night
DESCRIPTION:Tuesdays just got a little more vibrant! Sip\, savor\, and let the good times roll with $1 off margarita flights and $1 off any full-size margarita. Perfect for shaking off the day and raising a glass with friends in our cozy\, hidden-away haven.
URL:https://birdsnestatblackbird.com/event/margarita-night/2026-08-18/
LOCATION:Bird’s Nest at Blackbird\, 3608 Rogers Branch Rd #103\, Wake Forest\, NC\, 27587\, United States
ATTACH;FMTTYPE=image/jpeg:https://birdsnestatblackbird.com/wp-content/uploads/2024/06/Margarita.jpg
ORGANIZER;CN="Bird's Nest at Blackbird":MAILTO:info@blackbirdbeer.com
END:VEVENT
BEGIN:VEVENT
DTSTART;TZID=America/New_York:20260825T170000
DTEND;TZID=America/New_York:20260825T220000
DTSTAMP:20260419T164320
CREATED:20251114T165403Z
LAST-MODIFIED:20251201T143611Z
UID:10003583-1787677200-1787695200@birdsnestatblackbird.com
SUMMARY:Margarita Night
DESCRIPTION:Tuesdays just got a little more vibrant! Sip\, savor\, and let the good times roll with $1 off margarita flights and $1 off any full-size margarita. Perfect for shaking off the day and raising a glass with friends in our cozy\, hidden-away haven.
URL:https://birdsnestatblackbird.com/event/margarita-night/2026-08-25/
LOCATION:Bird’s Nest at Blackbird\, 3608 Rogers Branch Rd #103\, Wake Forest\, NC\, 27587\, United States
ATTACH;FMTTYPE=image/jpeg:https://birdsnestatblackbird.com/wp-content/uploads/2024/06/Margarita.jpg
ORGANIZER;CN="Bird's Nest at Blackbird":MAILTO:info@blackbirdbeer.com
END:VEVENT
BEGIN:VEVENT
DTSTART;TZID=America/New_York:20260901T170000
DTEND;TZID=America/New_York:20260901T220000
DTSTAMP:20260419T164320
CREATED:20251114T165403Z
LAST-MODIFIED:20251201T143611Z
UID:10003584-1788282000-1788300000@birdsnestatblackbird.com
SUMMARY:Margarita Night
DESCRIPTION:Tuesdays just got a little more vibrant! Sip\, savor\, and let the good times roll with $1 off margarita flights and $1 off any full-size margarita. Perfect for shaking off the day and raising a glass with friends in our cozy\, hidden-away haven.
URL:https://birdsnestatblackbird.com/event/margarita-night/2026-09-01/
LOCATION:Bird’s Nest at Blackbird\, 3608 Rogers Branch Rd #103\, Wake Forest\, NC\, 27587\, United States
ATTACH;FMTTYPE=image/jpeg:https://birdsnestatblackbird.com/wp-content/uploads/2024/06/Margarita.jpg
ORGANIZER;CN="Bird's Nest at Blackbird":MAILTO:info@blackbirdbeer.com
END:VEVENT
BEGIN:VEVENT
DTSTART;TZID=America/New_York:20260908T170000
DTEND;TZID=America/New_York:20260908T220000
DTSTAMP:20260419T164320
CREATED:20251114T165403Z
LAST-MODIFIED:20251201T143611Z
UID:10003585-1788886800-1788904800@birdsnestatblackbird.com
SUMMARY:Margarita Night
DESCRIPTION:Tuesdays just got a little more vibrant! Sip\, savor\, and let the good times roll with $1 off margarita flights and $1 off any full-size margarita. Perfect for shaking off the day and raising a glass with friends in our cozy\, hidden-away haven.
URL:https://birdsnestatblackbird.com/event/margarita-night/2026-09-08/
LOCATION:Bird’s Nest at Blackbird\, 3608 Rogers Branch Rd #103\, Wake Forest\, NC\, 27587\, United States
ATTACH;FMTTYPE=image/jpeg:https://birdsnestatblackbird.com/wp-content/uploads/2024/06/Margarita.jpg
ORGANIZER;CN="Bird's Nest at Blackbird":MAILTO:info@blackbirdbeer.com
END:VEVENT
BEGIN:VEVENT
DTSTART;TZID=America/New_York:20260915T170000
DTEND;TZID=America/New_York:20260915T220000
DTSTAMP:20260419T164320
CREATED:20251114T165403Z
LAST-MODIFIED:20251201T143611Z
UID:10003586-1789491600-1789509600@birdsnestatblackbird.com
SUMMARY:Margarita Night
DESCRIPTION:Tuesdays just got a little more vibrant! Sip\, savor\, and let the good times roll with $1 off margarita flights and $1 off any full-size margarita. Perfect for shaking off the day and raising a glass with friends in our cozy\, hidden-away haven.
URL:https://birdsnestatblackbird.com/event/margarita-night/2026-09-15/
LOCATION:Bird’s Nest at Blackbird\, 3608 Rogers Branch Rd #103\, Wake Forest\, NC\, 27587\, United States
ATTACH;FMTTYPE=image/jpeg:https://birdsnestatblackbird.com/wp-content/uploads/2024/06/Margarita.jpg
ORGANIZER;CN="Bird's Nest at Blackbird":MAILTO:info@blackbirdbeer.com
END:VEVENT
BEGIN:VEVENT
DTSTART;TZID=America/New_York:20260922T170000
DTEND;TZID=America/New_York:20260922T220000
DTSTAMP:20260419T164320
CREATED:20251114T165403Z
LAST-MODIFIED:20251201T143611Z
UID:10003587-1790096400-1790114400@birdsnestatblackbird.com
SUMMARY:Margarita Night
DESCRIPTION:Tuesdays just got a little more vibrant! Sip\, savor\, and let the good times roll with $1 off margarita flights and $1 off any full-size margarita. Perfect for shaking off the day and raising a glass with friends in our cozy\, hidden-away haven.
URL:https://birdsnestatblackbird.com/event/margarita-night/2026-09-22/
LOCATION:Bird’s Nest at Blackbird\, 3608 Rogers Branch Rd #103\, Wake Forest\, NC\, 27587\, United States
ATTACH;FMTTYPE=image/jpeg:https://birdsnestatblackbird.com/wp-content/uploads/2024/06/Margarita.jpg
ORGANIZER;CN="Bird's Nest at Blackbird":MAILTO:info@blackbirdbeer.com
END:VEVENT
BEGIN:VEVENT
DTSTART;TZID=America/New_York:20260929T170000
DTEND;TZID=America/New_York:20260929T220000
DTSTAMP:20260419T164320
CREATED:20251114T165403Z
LAST-MODIFIED:20251201T143611Z
UID:10003588-1790701200-1790719200@birdsnestatblackbird.com
SUMMARY:Margarita Night
DESCRIPTION:Tuesdays just got a little more vibrant! Sip\, savor\, and let the good times roll with $1 off margarita flights and $1 off any full-size margarita. Perfect for shaking off the day and raising a glass with friends in our cozy\, hidden-away haven.
URL:https://birdsnestatblackbird.com/event/margarita-night/2026-09-29/
LOCATION:Bird’s Nest at Blackbird\, 3608 Rogers Branch Rd #103\, Wake Forest\, NC\, 27587\, United States
ATTACH;FMTTYPE=image/jpeg:https://birdsnestatblackbird.com/wp-content/uploads/2024/06/Margarita.jpg
ORGANIZER;CN="Bird's Nest at Blackbird":MAILTO:info@blackbirdbeer.com
END:VEVENT
BEGIN:VEVENT
DTSTART;TZID=America/New_York:20261006T170000
DTEND;TZID=America/New_York:20261006T220000
DTSTAMP:20260419T164320
CREATED:20251114T165403Z
LAST-MODIFIED:20251201T143611Z
UID:10003589-1791306000-1791324000@birdsnestatblackbird.com
SUMMARY:Margarita Night
DESCRIPTION:Tuesdays just got a little more vibrant! Sip\, savor\, and let the good times roll with $1 off margarita flights and $1 off any full-size margarita. Perfect for shaking off the day and raising a glass with friends in our cozy\, hidden-away haven.
URL:https://birdsnestatblackbird.com/event/margarita-night/2026-10-06/
LOCATION:Bird’s Nest at Blackbird\, 3608 Rogers Branch Rd #103\, Wake Forest\, NC\, 27587\, United States
ATTACH;FMTTYPE=image/jpeg:https://birdsnestatblackbird.com/wp-content/uploads/2024/06/Margarita.jpg
ORGANIZER;CN="Bird's Nest at Blackbird":MAILTO:info@blackbirdbeer.com
END:VEVENT
BEGIN:VEVENT
DTSTART;TZID=America/New_York:20261013T170000
DTEND;TZID=America/New_York:20261013T220000
DTSTAMP:20260419T164320
CREATED:20251114T165403Z
LAST-MODIFIED:20251201T143611Z
UID:10003590-1791910800-1791928800@birdsnestatblackbird.com
SUMMARY:Margarita Night
DESCRIPTION:Tuesdays just got a little more vibrant! Sip\, savor\, and let the good times roll with $1 off margarita flights and $1 off any full-size margarita. Perfect for shaking off the day and raising a glass with friends in our cozy\, hidden-away haven.
URL:https://birdsnestatblackbird.com/event/margarita-night/2026-10-13/
LOCATION:Bird’s Nest at Blackbird\, 3608 Rogers Branch Rd #103\, Wake Forest\, NC\, 27587\, United States
ATTACH;FMTTYPE=image/jpeg:https://birdsnestatblackbird.com/wp-content/uploads/2024/06/Margarita.jpg
ORGANIZER;CN="Bird's Nest at Blackbird":MAILTO:info@blackbirdbeer.com
END:VEVENT
BEGIN:VEVENT
DTSTART;TZID=America/New_York:20261020T170000
DTEND;TZID=America/New_York:20261020T220000
DTSTAMP:20260419T164320
CREATED:20251114T165403Z
LAST-MODIFIED:20251201T143611Z
UID:10003591-1792515600-1792533600@birdsnestatblackbird.com
SUMMARY:Margarita Night
DESCRIPTION:Tuesdays just got a little more vibrant! Sip\, savor\, and let the good times roll with $1 off margarita flights and $1 off any full-size margarita. Perfect for shaking off the day and raising a glass with friends in our cozy\, hidden-away haven.
URL:https://birdsnestatblackbird.com/event/margarita-night/2026-10-20/
LOCATION:Bird’s Nest at Blackbird\, 3608 Rogers Branch Rd #103\, Wake Forest\, NC\, 27587\, United States
ATTACH;FMTTYPE=image/jpeg:https://birdsnestatblackbird.com/wp-content/uploads/2024/06/Margarita.jpg
ORGANIZER;CN="Bird's Nest at Blackbird":MAILTO:info@blackbirdbeer.com
END:VEVENT
BEGIN:VEVENT
DTSTART;TZID=America/New_York:20261027T170000
DTEND;TZID=America/New_York:20261027T220000
DTSTAMP:20260419T164320
CREATED:20251114T165403Z
LAST-MODIFIED:20251201T143611Z
UID:10003592-1793120400-1793138400@birdsnestatblackbird.com
SUMMARY:Margarita Night
DESCRIPTION:Tuesdays just got a little more vibrant! Sip\, savor\, and let the good times roll with $1 off margarita flights and $1 off any full-size margarita. Perfect for shaking off the day and raising a glass with friends in our cozy\, hidden-away haven.
URL:https://birdsnestatblackbird.com/event/margarita-night/2026-10-27/
LOCATION:Bird’s Nest at Blackbird\, 3608 Rogers Branch Rd #103\, Wake Forest\, NC\, 27587\, United States
ATTACH;FMTTYPE=image/jpeg:https://birdsnestatblackbird.com/wp-content/uploads/2024/06/Margarita.jpg
ORGANIZER;CN="Bird's Nest at Blackbird":MAILTO:info@blackbirdbeer.com
END:VEVENT
BEGIN:VEVENT
DTSTART;TZID=America/New_York:20261103T170000
DTEND;TZID=America/New_York:20261103T220000
DTSTAMP:20260419T164320
CREATED:20251114T165403Z
LAST-MODIFIED:20251201T143611Z
UID:10003593-1793725200-1793743200@birdsnestatblackbird.com
SUMMARY:Margarita Night
DESCRIPTION:Tuesdays just got a little more vibrant! Sip\, savor\, and let the good times roll with $1 off margarita flights and $1 off any full-size margarita. Perfect for shaking off the day and raising a glass with friends in our cozy\, hidden-away haven.
URL:https://birdsnestatblackbird.com/event/margarita-night/2026-11-03/
LOCATION:Bird’s Nest at Blackbird\, 3608 Rogers Branch Rd #103\, Wake Forest\, NC\, 27587\, United States
ATTACH;FMTTYPE=image/jpeg:https://birdsnestatblackbird.com/wp-content/uploads/2024/06/Margarita.jpg
ORGANIZER;CN="Bird's Nest at Blackbird":MAILTO:info@blackbirdbeer.com
END:VEVENT
BEGIN:VEVENT
DTSTART;TZID=America/New_York:20261110T170000
DTEND;TZID=America/New_York:20261110T220000
DTSTAMP:20260419T164320
CREATED:20251114T165403Z
LAST-MODIFIED:20251201T143611Z
UID:10003594-1794330000-1794348000@birdsnestatblackbird.com
SUMMARY:Margarita Night
DESCRIPTION:Tuesdays just got a little more vibrant! Sip\, savor\, and let the good times roll with $1 off margarita flights and $1 off any full-size margarita. Perfect for shaking off the day and raising a glass with friends in our cozy\, hidden-away haven.
URL:https://birdsnestatblackbird.com/event/margarita-night/2026-11-10/
LOCATION:Bird’s Nest at Blackbird\, 3608 Rogers Branch Rd #103\, Wake Forest\, NC\, 27587\, United States
ATTACH;FMTTYPE=image/jpeg:https://birdsnestatblackbird.com/wp-content/uploads/2024/06/Margarita.jpg
ORGANIZER;CN="Bird's Nest at Blackbird":MAILTO:info@blackbirdbeer.com
END:VEVENT
END:VCALENDAR