BEGIN:VCALENDAR
VERSION:2.0
PRODID:-//Bird&#039;s Nest at Blackbird - ECPv6.15.18//NONSGML v1.0//EN
CALSCALE:GREGORIAN
METHOD:PUBLISH
X-WR-CALNAME:Bird&#039;s Nest at Blackbird
X-ORIGINAL-URL:https://birdsnestatblackbird.com
X-WR-CALDESC:Events for Bird&#039;s Nest at Blackbird
REFRESH-INTERVAL;VALUE=DURATION:PT1H
X-Robots-Tag:noindex
X-PUBLISHED-TTL:PT1H
BEGIN:VTIMEZONE
TZID:America/New_York
BEGIN:DAYLIGHT
TZOFFSETFROM:-0500
TZOFFSETTO:-0400
TZNAME:EDT
DTSTART:20250309T070000
END:DAYLIGHT
BEGIN:STANDARD
TZOFFSETFROM:-0400
TZOFFSETTO:-0500
TZNAME:EST
DTSTART:20251102T060000
END:STANDARD
BEGIN:DAYLIGHT
TZOFFSETFROM:-0500
TZOFFSETTO:-0400
TZNAME:EDT
DTSTART:20260308T070000
END:DAYLIGHT
BEGIN:STANDARD
TZOFFSETFROM:-0400
TZOFFSETTO:-0500
TZNAME:EST
DTSTART:20261101T060000
END:STANDARD
BEGIN:DAYLIGHT
TZOFFSETFROM:-0500
TZOFFSETTO:-0400
TZNAME:EDT
DTSTART:20270314T070000
END:DAYLIGHT
BEGIN:STANDARD
TZOFFSETFROM:-0400
TZOFFSETTO:-0500
TZNAME:EST
DTSTART:20271107T060000
END:STANDARD
END:VTIMEZONE
BEGIN:VEVENT
DTSTART;TZID=America/New_York:20260423T170000
DTEND;TZID=America/New_York:20260423T220000
DTSTAMP:20260423T043342
CREATED:20251114T170950Z
LAST-MODIFIED:20251223T200713Z
UID:10004090-1776963600-1776981600@birdsnestatblackbird.com
SUMMARY:Martini Night
DESCRIPTION:Thursdays are for the bold and the refined. Savor $1 off martini flights and $1 off any full-sized martini as you unwind with style. From dry to dirty\, shaken to stirred\, our martinis are crafted to elevate your evening\, one glass at a time.
URL:https://birdsnestatblackbird.com/event/martini-night/2026-04-23/
LOCATION:Bird’s Nest at Blackbird\, 3608 Rogers Branch Rd #103\, Wake Forest\, NC\, 27587\, United States
ATTACH;FMTTYPE=image/jpeg:https://birdsnestatblackbird.com/wp-content/uploads/2024/06/Martini-2.jpg
ORGANIZER;CN="Bird's Nest at Blackbird":MAILTO:info@blackbirdbeer.com
END:VEVENT
BEGIN:VEVENT
DTSTART;TZID=America/New_York:20260430T170000
DTEND;TZID=America/New_York:20260430T220000
DTSTAMP:20260423T043342
CREATED:20251114T170950Z
LAST-MODIFIED:20251223T200713Z
UID:10004091-1777568400-1777586400@birdsnestatblackbird.com
SUMMARY:Martini Night
DESCRIPTION:Thursdays are for the bold and the refined. Savor $1 off martini flights and $1 off any full-sized martini as you unwind with style. From dry to dirty\, shaken to stirred\, our martinis are crafted to elevate your evening\, one glass at a time.
URL:https://birdsnestatblackbird.com/event/martini-night/2026-04-30/
LOCATION:Bird’s Nest at Blackbird\, 3608 Rogers Branch Rd #103\, Wake Forest\, NC\, 27587\, United States
ATTACH;FMTTYPE=image/jpeg:https://birdsnestatblackbird.com/wp-content/uploads/2024/06/Martini-2.jpg
ORGANIZER;CN="Bird's Nest at Blackbird":MAILTO:info@blackbirdbeer.com
END:VEVENT
BEGIN:VEVENT
DTSTART;TZID=America/New_York:20260507T170000
DTEND;TZID=America/New_York:20260507T220000
DTSTAMP:20260423T043342
CREATED:20251114T170950Z
LAST-MODIFIED:20251223T200713Z
UID:10004092-1778173200-1778191200@birdsnestatblackbird.com
SUMMARY:Martini Night
DESCRIPTION:Thursdays are for the bold and the refined. Savor $1 off martini flights and $1 off any full-sized martini as you unwind with style. From dry to dirty\, shaken to stirred\, our martinis are crafted to elevate your evening\, one glass at a time.
URL:https://birdsnestatblackbird.com/event/martini-night/2026-05-07/
LOCATION:Bird’s Nest at Blackbird\, 3608 Rogers Branch Rd #103\, Wake Forest\, NC\, 27587\, United States
ATTACH;FMTTYPE=image/jpeg:https://birdsnestatblackbird.com/wp-content/uploads/2024/06/Martini-2.jpg
ORGANIZER;CN="Bird's Nest at Blackbird":MAILTO:info@blackbirdbeer.com
END:VEVENT
BEGIN:VEVENT
DTSTART;TZID=America/New_York:20260514T170000
DTEND;TZID=America/New_York:20260514T220000
DTSTAMP:20260423T043342
CREATED:20251114T170950Z
LAST-MODIFIED:20251223T200713Z
UID:10004093-1778778000-1778796000@birdsnestatblackbird.com
SUMMARY:Martini Night
DESCRIPTION:Thursdays are for the bold and the refined. Savor $1 off martini flights and $1 off any full-sized martini as you unwind with style. From dry to dirty\, shaken to stirred\, our martinis are crafted to elevate your evening\, one glass at a time.
URL:https://birdsnestatblackbird.com/event/martini-night/2026-05-14/
LOCATION:Bird’s Nest at Blackbird\, 3608 Rogers Branch Rd #103\, Wake Forest\, NC\, 27587\, United States
ATTACH;FMTTYPE=image/jpeg:https://birdsnestatblackbird.com/wp-content/uploads/2024/06/Martini-2.jpg
ORGANIZER;CN="Bird's Nest at Blackbird":MAILTO:info@blackbirdbeer.com
END:VEVENT
BEGIN:VEVENT
DTSTART;TZID=America/New_York:20260521T170000
DTEND;TZID=America/New_York:20260521T220000
DTSTAMP:20260423T043342
CREATED:20251114T170950Z
LAST-MODIFIED:20251223T200713Z
UID:10004094-1779382800-1779400800@birdsnestatblackbird.com
SUMMARY:Martini Night
DESCRIPTION:Thursdays are for the bold and the refined. Savor $1 off martini flights and $1 off any full-sized martini as you unwind with style. From dry to dirty\, shaken to stirred\, our martinis are crafted to elevate your evening\, one glass at a time.
URL:https://birdsnestatblackbird.com/event/martini-night/2026-05-21/
LOCATION:Bird’s Nest at Blackbird\, 3608 Rogers Branch Rd #103\, Wake Forest\, NC\, 27587\, United States
ATTACH;FMTTYPE=image/jpeg:https://birdsnestatblackbird.com/wp-content/uploads/2024/06/Martini-2.jpg
ORGANIZER;CN="Bird's Nest at Blackbird":MAILTO:info@blackbirdbeer.com
END:VEVENT
BEGIN:VEVENT
DTSTART;TZID=America/New_York:20260528T170000
DTEND;TZID=America/New_York:20260528T220000
DTSTAMP:20260423T043342
CREATED:20251114T170950Z
LAST-MODIFIED:20251223T200713Z
UID:10004095-1779987600-1780005600@birdsnestatblackbird.com
SUMMARY:Martini Night
DESCRIPTION:Thursdays are for the bold and the refined. Savor $1 off martini flights and $1 off any full-sized martini as you unwind with style. From dry to dirty\, shaken to stirred\, our martinis are crafted to elevate your evening\, one glass at a time.
URL:https://birdsnestatblackbird.com/event/martini-night/2026-05-28/
LOCATION:Bird’s Nest at Blackbird\, 3608 Rogers Branch Rd #103\, Wake Forest\, NC\, 27587\, United States
ATTACH;FMTTYPE=image/jpeg:https://birdsnestatblackbird.com/wp-content/uploads/2024/06/Martini-2.jpg
ORGANIZER;CN="Bird's Nest at Blackbird":MAILTO:info@blackbirdbeer.com
END:VEVENT
BEGIN:VEVENT
DTSTART;TZID=America/New_York:20260604T170000
DTEND;TZID=America/New_York:20260604T220000
DTSTAMP:20260423T043342
CREATED:20251114T170950Z
LAST-MODIFIED:20251223T200713Z
UID:10004096-1780592400-1780610400@birdsnestatblackbird.com
SUMMARY:Martini Night
DESCRIPTION:Thursdays are for the bold and the refined. Savor $1 off martini flights and $1 off any full-sized martini as you unwind with style. From dry to dirty\, shaken to stirred\, our martinis are crafted to elevate your evening\, one glass at a time.
URL:https://birdsnestatblackbird.com/event/martini-night/2026-06-04/
LOCATION:Bird’s Nest at Blackbird\, 3608 Rogers Branch Rd #103\, Wake Forest\, NC\, 27587\, United States
ATTACH;FMTTYPE=image/jpeg:https://birdsnestatblackbird.com/wp-content/uploads/2024/06/Martini-2.jpg
ORGANIZER;CN="Bird's Nest at Blackbird":MAILTO:info@blackbirdbeer.com
END:VEVENT
BEGIN:VEVENT
DTSTART;TZID=America/New_York:20260611T170000
DTEND;TZID=America/New_York:20260611T220000
DTSTAMP:20260423T043342
CREATED:20251114T170950Z
LAST-MODIFIED:20251223T200713Z
UID:10004097-1781197200-1781215200@birdsnestatblackbird.com
SUMMARY:Martini Night
DESCRIPTION:Thursdays are for the bold and the refined. Savor $1 off martini flights and $1 off any full-sized martini as you unwind with style. From dry to dirty\, shaken to stirred\, our martinis are crafted to elevate your evening\, one glass at a time.
URL:https://birdsnestatblackbird.com/event/martini-night/2026-06-11/
LOCATION:Bird’s Nest at Blackbird\, 3608 Rogers Branch Rd #103\, Wake Forest\, NC\, 27587\, United States
ATTACH;FMTTYPE=image/jpeg:https://birdsnestatblackbird.com/wp-content/uploads/2024/06/Martini-2.jpg
ORGANIZER;CN="Bird's Nest at Blackbird":MAILTO:info@blackbirdbeer.com
END:VEVENT
BEGIN:VEVENT
DTSTART;TZID=America/New_York:20260618T170000
DTEND;TZID=America/New_York:20260618T220000
DTSTAMP:20260423T043342
CREATED:20251114T170950Z
LAST-MODIFIED:20251223T200713Z
UID:10004098-1781802000-1781820000@birdsnestatblackbird.com
SUMMARY:Martini Night
DESCRIPTION:Thursdays are for the bold and the refined. Savor $1 off martini flights and $1 off any full-sized martini as you unwind with style. From dry to dirty\, shaken to stirred\, our martinis are crafted to elevate your evening\, one glass at a time.
URL:https://birdsnestatblackbird.com/event/martini-night/2026-06-18/
LOCATION:Bird’s Nest at Blackbird\, 3608 Rogers Branch Rd #103\, Wake Forest\, NC\, 27587\, United States
ATTACH;FMTTYPE=image/jpeg:https://birdsnestatblackbird.com/wp-content/uploads/2024/06/Martini-2.jpg
ORGANIZER;CN="Bird's Nest at Blackbird":MAILTO:info@blackbirdbeer.com
END:VEVENT
BEGIN:VEVENT
DTSTART;TZID=America/New_York:20260625T170000
DTEND;TZID=America/New_York:20260625T220000
DTSTAMP:20260423T043342
CREATED:20251114T170950Z
LAST-MODIFIED:20251223T200713Z
UID:10004099-1782406800-1782424800@birdsnestatblackbird.com
SUMMARY:Martini Night
DESCRIPTION:Thursdays are for the bold and the refined. Savor $1 off martini flights and $1 off any full-sized martini as you unwind with style. From dry to dirty\, shaken to stirred\, our martinis are crafted to elevate your evening\, one glass at a time.
URL:https://birdsnestatblackbird.com/event/martini-night/2026-06-25/
LOCATION:Bird’s Nest at Blackbird\, 3608 Rogers Branch Rd #103\, Wake Forest\, NC\, 27587\, United States
ATTACH;FMTTYPE=image/jpeg:https://birdsnestatblackbird.com/wp-content/uploads/2024/06/Martini-2.jpg
ORGANIZER;CN="Bird's Nest at Blackbird":MAILTO:info@blackbirdbeer.com
END:VEVENT
BEGIN:VEVENT
DTSTART;TZID=America/New_York:20260702T170000
DTEND;TZID=America/New_York:20260702T220000
DTSTAMP:20260423T043342
CREATED:20251114T170950Z
LAST-MODIFIED:20251223T200713Z
UID:10004100-1783011600-1783029600@birdsnestatblackbird.com
SUMMARY:Martini Night
DESCRIPTION:Thursdays are for the bold and the refined. Savor $1 off martini flights and $1 off any full-sized martini as you unwind with style. From dry to dirty\, shaken to stirred\, our martinis are crafted to elevate your evening\, one glass at a time.
URL:https://birdsnestatblackbird.com/event/martini-night/2026-07-02/
LOCATION:Bird’s Nest at Blackbird\, 3608 Rogers Branch Rd #103\, Wake Forest\, NC\, 27587\, United States
ATTACH;FMTTYPE=image/jpeg:https://birdsnestatblackbird.com/wp-content/uploads/2024/06/Martini-2.jpg
ORGANIZER;CN="Bird's Nest at Blackbird":MAILTO:info@blackbirdbeer.com
END:VEVENT
BEGIN:VEVENT
DTSTART;TZID=America/New_York:20260709T170000
DTEND;TZID=America/New_York:20260709T220000
DTSTAMP:20260423T043342
CREATED:20251114T170950Z
LAST-MODIFIED:20251223T200713Z
UID:10004101-1783616400-1783634400@birdsnestatblackbird.com
SUMMARY:Martini Night
DESCRIPTION:Thursdays are for the bold and the refined. Savor $1 off martini flights and $1 off any full-sized martini as you unwind with style. From dry to dirty\, shaken to stirred\, our martinis are crafted to elevate your evening\, one glass at a time.
URL:https://birdsnestatblackbird.com/event/martini-night/2026-07-09/
LOCATION:Bird’s Nest at Blackbird\, 3608 Rogers Branch Rd #103\, Wake Forest\, NC\, 27587\, United States
ATTACH;FMTTYPE=image/jpeg:https://birdsnestatblackbird.com/wp-content/uploads/2024/06/Martini-2.jpg
ORGANIZER;CN="Bird's Nest at Blackbird":MAILTO:info@blackbirdbeer.com
END:VEVENT
BEGIN:VEVENT
DTSTART;TZID=America/New_York:20260716T170000
DTEND;TZID=America/New_York:20260716T220000
DTSTAMP:20260423T043342
CREATED:20251114T170950Z
LAST-MODIFIED:20251223T200713Z
UID:10004102-1784221200-1784239200@birdsnestatblackbird.com
SUMMARY:Martini Night
DESCRIPTION:Thursdays are for the bold and the refined. Savor $1 off martini flights and $1 off any full-sized martini as you unwind with style. From dry to dirty\, shaken to stirred\, our martinis are crafted to elevate your evening\, one glass at a time.
URL:https://birdsnestatblackbird.com/event/martini-night/2026-07-16/
LOCATION:Bird’s Nest at Blackbird\, 3608 Rogers Branch Rd #103\, Wake Forest\, NC\, 27587\, United States
ATTACH;FMTTYPE=image/jpeg:https://birdsnestatblackbird.com/wp-content/uploads/2024/06/Martini-2.jpg
ORGANIZER;CN="Bird's Nest at Blackbird":MAILTO:info@blackbirdbeer.com
END:VEVENT
BEGIN:VEVENT
DTSTART;TZID=America/New_York:20260723T170000
DTEND;TZID=America/New_York:20260723T220000
DTSTAMP:20260423T043342
CREATED:20251114T170950Z
LAST-MODIFIED:20251223T200713Z
UID:10004103-1784826000-1784844000@birdsnestatblackbird.com
SUMMARY:Martini Night
DESCRIPTION:Thursdays are for the bold and the refined. Savor $1 off martini flights and $1 off any full-sized martini as you unwind with style. From dry to dirty\, shaken to stirred\, our martinis are crafted to elevate your evening\, one glass at a time.
URL:https://birdsnestatblackbird.com/event/martini-night/2026-07-23/
LOCATION:Bird’s Nest at Blackbird\, 3608 Rogers Branch Rd #103\, Wake Forest\, NC\, 27587\, United States
ATTACH;FMTTYPE=image/jpeg:https://birdsnestatblackbird.com/wp-content/uploads/2024/06/Martini-2.jpg
ORGANIZER;CN="Bird's Nest at Blackbird":MAILTO:info@blackbirdbeer.com
END:VEVENT
BEGIN:VEVENT
DTSTART;TZID=America/New_York:20260730T170000
DTEND;TZID=America/New_York:20260730T220000
DTSTAMP:20260423T043342
CREATED:20251114T170950Z
LAST-MODIFIED:20251223T200713Z
UID:10004104-1785430800-1785448800@birdsnestatblackbird.com
SUMMARY:Martini Night
DESCRIPTION:Thursdays are for the bold and the refined. Savor $1 off martini flights and $1 off any full-sized martini as you unwind with style. From dry to dirty\, shaken to stirred\, our martinis are crafted to elevate your evening\, one glass at a time.
URL:https://birdsnestatblackbird.com/event/martini-night/2026-07-30/
LOCATION:Bird’s Nest at Blackbird\, 3608 Rogers Branch Rd #103\, Wake Forest\, NC\, 27587\, United States
ATTACH;FMTTYPE=image/jpeg:https://birdsnestatblackbird.com/wp-content/uploads/2024/06/Martini-2.jpg
ORGANIZER;CN="Bird's Nest at Blackbird":MAILTO:info@blackbirdbeer.com
END:VEVENT
BEGIN:VEVENT
DTSTART;TZID=America/New_York:20260806T170000
DTEND;TZID=America/New_York:20260806T220000
DTSTAMP:20260423T043342
CREATED:20251114T170950Z
LAST-MODIFIED:20251223T200713Z
UID:10004105-1786035600-1786053600@birdsnestatblackbird.com
SUMMARY:Martini Night
DESCRIPTION:Thursdays are for the bold and the refined. Savor $1 off martini flights and $1 off any full-sized martini as you unwind with style. From dry to dirty\, shaken to stirred\, our martinis are crafted to elevate your evening\, one glass at a time.
URL:https://birdsnestatblackbird.com/event/martini-night/2026-08-06/
LOCATION:Bird’s Nest at Blackbird\, 3608 Rogers Branch Rd #103\, Wake Forest\, NC\, 27587\, United States
ATTACH;FMTTYPE=image/jpeg:https://birdsnestatblackbird.com/wp-content/uploads/2024/06/Martini-2.jpg
ORGANIZER;CN="Bird's Nest at Blackbird":MAILTO:info@blackbirdbeer.com
END:VEVENT
BEGIN:VEVENT
DTSTART;TZID=America/New_York:20260813T170000
DTEND;TZID=America/New_York:20260813T220000
DTSTAMP:20260423T043342
CREATED:20251114T170950Z
LAST-MODIFIED:20251223T200713Z
UID:10004106-1786640400-1786658400@birdsnestatblackbird.com
SUMMARY:Martini Night
DESCRIPTION:Thursdays are for the bold and the refined. Savor $1 off martini flights and $1 off any full-sized martini as you unwind with style. From dry to dirty\, shaken to stirred\, our martinis are crafted to elevate your evening\, one glass at a time.
URL:https://birdsnestatblackbird.com/event/martini-night/2026-08-13/
LOCATION:Bird’s Nest at Blackbird\, 3608 Rogers Branch Rd #103\, Wake Forest\, NC\, 27587\, United States
ATTACH;FMTTYPE=image/jpeg:https://birdsnestatblackbird.com/wp-content/uploads/2024/06/Martini-2.jpg
ORGANIZER;CN="Bird's Nest at Blackbird":MAILTO:info@blackbirdbeer.com
END:VEVENT
BEGIN:VEVENT
DTSTART;TZID=America/New_York:20260820T170000
DTEND;TZID=America/New_York:20260820T220000
DTSTAMP:20260423T043342
CREATED:20251114T170950Z
LAST-MODIFIED:20251223T200713Z
UID:10004107-1787245200-1787263200@birdsnestatblackbird.com
SUMMARY:Martini Night
DESCRIPTION:Thursdays are for the bold and the refined. Savor $1 off martini flights and $1 off any full-sized martini as you unwind with style. From dry to dirty\, shaken to stirred\, our martinis are crafted to elevate your evening\, one glass at a time.
URL:https://birdsnestatblackbird.com/event/martini-night/2026-08-20/
LOCATION:Bird’s Nest at Blackbird\, 3608 Rogers Branch Rd #103\, Wake Forest\, NC\, 27587\, United States
ATTACH;FMTTYPE=image/jpeg:https://birdsnestatblackbird.com/wp-content/uploads/2024/06/Martini-2.jpg
ORGANIZER;CN="Bird's Nest at Blackbird":MAILTO:info@blackbirdbeer.com
END:VEVENT
BEGIN:VEVENT
DTSTART;TZID=America/New_York:20260827T170000
DTEND;TZID=America/New_York:20260827T220000
DTSTAMP:20260423T043342
CREATED:20251114T170950Z
LAST-MODIFIED:20251223T200713Z
UID:10004108-1787850000-1787868000@birdsnestatblackbird.com
SUMMARY:Martini Night
DESCRIPTION:Thursdays are for the bold and the refined. Savor $1 off martini flights and $1 off any full-sized martini as you unwind with style. From dry to dirty\, shaken to stirred\, our martinis are crafted to elevate your evening\, one glass at a time.
URL:https://birdsnestatblackbird.com/event/martini-night/2026-08-27/
LOCATION:Bird’s Nest at Blackbird\, 3608 Rogers Branch Rd #103\, Wake Forest\, NC\, 27587\, United States
ATTACH;FMTTYPE=image/jpeg:https://birdsnestatblackbird.com/wp-content/uploads/2024/06/Martini-2.jpg
ORGANIZER;CN="Bird's Nest at Blackbird":MAILTO:info@blackbirdbeer.com
END:VEVENT
BEGIN:VEVENT
DTSTART;TZID=America/New_York:20260903T170000
DTEND;TZID=America/New_York:20260903T220000
DTSTAMP:20260423T043342
CREATED:20251114T170950Z
LAST-MODIFIED:20251223T200713Z
UID:10004109-1788454800-1788472800@birdsnestatblackbird.com
SUMMARY:Martini Night
DESCRIPTION:Thursdays are for the bold and the refined. Savor $1 off martini flights and $1 off any full-sized martini as you unwind with style. From dry to dirty\, shaken to stirred\, our martinis are crafted to elevate your evening\, one glass at a time.
URL:https://birdsnestatblackbird.com/event/martini-night/2026-09-03/
LOCATION:Bird’s Nest at Blackbird\, 3608 Rogers Branch Rd #103\, Wake Forest\, NC\, 27587\, United States
ATTACH;FMTTYPE=image/jpeg:https://birdsnestatblackbird.com/wp-content/uploads/2024/06/Martini-2.jpg
ORGANIZER;CN="Bird's Nest at Blackbird":MAILTO:info@blackbirdbeer.com
END:VEVENT
BEGIN:VEVENT
DTSTART;TZID=America/New_York:20260910T170000
DTEND;TZID=America/New_York:20260910T220000
DTSTAMP:20260423T043342
CREATED:20251114T170950Z
LAST-MODIFIED:20251223T200713Z
UID:10004110-1789059600-1789077600@birdsnestatblackbird.com
SUMMARY:Martini Night
DESCRIPTION:Thursdays are for the bold and the refined. Savor $1 off martini flights and $1 off any full-sized martini as you unwind with style. From dry to dirty\, shaken to stirred\, our martinis are crafted to elevate your evening\, one glass at a time.
URL:https://birdsnestatblackbird.com/event/martini-night/2026-09-10/
LOCATION:Bird’s Nest at Blackbird\, 3608 Rogers Branch Rd #103\, Wake Forest\, NC\, 27587\, United States
ATTACH;FMTTYPE=image/jpeg:https://birdsnestatblackbird.com/wp-content/uploads/2024/06/Martini-2.jpg
ORGANIZER;CN="Bird's Nest at Blackbird":MAILTO:info@blackbirdbeer.com
END:VEVENT
BEGIN:VEVENT
DTSTART;TZID=America/New_York:20260917T170000
DTEND;TZID=America/New_York:20260917T220000
DTSTAMP:20260423T043342
CREATED:20251114T170950Z
LAST-MODIFIED:20251223T200713Z
UID:10004111-1789664400-1789682400@birdsnestatblackbird.com
SUMMARY:Martini Night
DESCRIPTION:Thursdays are for the bold and the refined. Savor $1 off martini flights and $1 off any full-sized martini as you unwind with style. From dry to dirty\, shaken to stirred\, our martinis are crafted to elevate your evening\, one glass at a time.
URL:https://birdsnestatblackbird.com/event/martini-night/2026-09-17/
LOCATION:Bird’s Nest at Blackbird\, 3608 Rogers Branch Rd #103\, Wake Forest\, NC\, 27587\, United States
ATTACH;FMTTYPE=image/jpeg:https://birdsnestatblackbird.com/wp-content/uploads/2024/06/Martini-2.jpg
ORGANIZER;CN="Bird's Nest at Blackbird":MAILTO:info@blackbirdbeer.com
END:VEVENT
BEGIN:VEVENT
DTSTART;TZID=America/New_York:20260924T170000
DTEND;TZID=America/New_York:20260924T220000
DTSTAMP:20260423T043342
CREATED:20251114T170950Z
LAST-MODIFIED:20251223T200713Z
UID:10004112-1790269200-1790287200@birdsnestatblackbird.com
SUMMARY:Martini Night
DESCRIPTION:Thursdays are for the bold and the refined. Savor $1 off martini flights and $1 off any full-sized martini as you unwind with style. From dry to dirty\, shaken to stirred\, our martinis are crafted to elevate your evening\, one glass at a time.
URL:https://birdsnestatblackbird.com/event/martini-night/2026-09-24/
LOCATION:Bird’s Nest at Blackbird\, 3608 Rogers Branch Rd #103\, Wake Forest\, NC\, 27587\, United States
ATTACH;FMTTYPE=image/jpeg:https://birdsnestatblackbird.com/wp-content/uploads/2024/06/Martini-2.jpg
ORGANIZER;CN="Bird's Nest at Blackbird":MAILTO:info@blackbirdbeer.com
END:VEVENT
BEGIN:VEVENT
DTSTART;TZID=America/New_York:20261001T170000
DTEND;TZID=America/New_York:20261001T220000
DTSTAMP:20260423T043342
CREATED:20251114T170950Z
LAST-MODIFIED:20251223T200713Z
UID:10004113-1790874000-1790892000@birdsnestatblackbird.com
SUMMARY:Martini Night
DESCRIPTION:Thursdays are for the bold and the refined. Savor $1 off martini flights and $1 off any full-sized martini as you unwind with style. From dry to dirty\, shaken to stirred\, our martinis are crafted to elevate your evening\, one glass at a time.
URL:https://birdsnestatblackbird.com/event/martini-night/2026-10-01/
LOCATION:Bird’s Nest at Blackbird\, 3608 Rogers Branch Rd #103\, Wake Forest\, NC\, 27587\, United States
ATTACH;FMTTYPE=image/jpeg:https://birdsnestatblackbird.com/wp-content/uploads/2024/06/Martini-2.jpg
ORGANIZER;CN="Bird's Nest at Blackbird":MAILTO:info@blackbirdbeer.com
END:VEVENT
BEGIN:VEVENT
DTSTART;TZID=America/New_York:20261008T170000
DTEND;TZID=America/New_York:20261008T220000
DTSTAMP:20260423T043342
CREATED:20251114T170950Z
LAST-MODIFIED:20251223T200713Z
UID:10004114-1791478800-1791496800@birdsnestatblackbird.com
SUMMARY:Martini Night
DESCRIPTION:Thursdays are for the bold and the refined. Savor $1 off martini flights and $1 off any full-sized martini as you unwind with style. From dry to dirty\, shaken to stirred\, our martinis are crafted to elevate your evening\, one glass at a time.
URL:https://birdsnestatblackbird.com/event/martini-night/2026-10-08/
LOCATION:Bird’s Nest at Blackbird\, 3608 Rogers Branch Rd #103\, Wake Forest\, NC\, 27587\, United States
ATTACH;FMTTYPE=image/jpeg:https://birdsnestatblackbird.com/wp-content/uploads/2024/06/Martini-2.jpg
ORGANIZER;CN="Bird's Nest at Blackbird":MAILTO:info@blackbirdbeer.com
END:VEVENT
BEGIN:VEVENT
DTSTART;TZID=America/New_York:20261015T170000
DTEND;TZID=America/New_York:20261015T220000
DTSTAMP:20260423T043342
CREATED:20251114T170950Z
LAST-MODIFIED:20251223T200713Z
UID:10004115-1792083600-1792101600@birdsnestatblackbird.com
SUMMARY:Martini Night
DESCRIPTION:Thursdays are for the bold and the refined. Savor $1 off martini flights and $1 off any full-sized martini as you unwind with style. From dry to dirty\, shaken to stirred\, our martinis are crafted to elevate your evening\, one glass at a time.
URL:https://birdsnestatblackbird.com/event/martini-night/2026-10-15/
LOCATION:Bird’s Nest at Blackbird\, 3608 Rogers Branch Rd #103\, Wake Forest\, NC\, 27587\, United States
ATTACH;FMTTYPE=image/jpeg:https://birdsnestatblackbird.com/wp-content/uploads/2024/06/Martini-2.jpg
ORGANIZER;CN="Bird's Nest at Blackbird":MAILTO:info@blackbirdbeer.com
END:VEVENT
BEGIN:VEVENT
DTSTART;TZID=America/New_York:20261022T170000
DTEND;TZID=America/New_York:20261022T220000
DTSTAMP:20260423T043342
CREATED:20251114T170950Z
LAST-MODIFIED:20251223T200713Z
UID:10004116-1792688400-1792706400@birdsnestatblackbird.com
SUMMARY:Martini Night
DESCRIPTION:Thursdays are for the bold and the refined. Savor $1 off martini flights and $1 off any full-sized martini as you unwind with style. From dry to dirty\, shaken to stirred\, our martinis are crafted to elevate your evening\, one glass at a time.
URL:https://birdsnestatblackbird.com/event/martini-night/2026-10-22/
LOCATION:Bird’s Nest at Blackbird\, 3608 Rogers Branch Rd #103\, Wake Forest\, NC\, 27587\, United States
ATTACH;FMTTYPE=image/jpeg:https://birdsnestatblackbird.com/wp-content/uploads/2024/06/Martini-2.jpg
ORGANIZER;CN="Bird's Nest at Blackbird":MAILTO:info@blackbirdbeer.com
END:VEVENT
BEGIN:VEVENT
DTSTART;TZID=America/New_York:20261029T170000
DTEND;TZID=America/New_York:20261029T220000
DTSTAMP:20260423T043342
CREATED:20251114T170950Z
LAST-MODIFIED:20251223T200713Z
UID:10004117-1793293200-1793311200@birdsnestatblackbird.com
SUMMARY:Martini Night
DESCRIPTION:Thursdays are for the bold and the refined. Savor $1 off martini flights and $1 off any full-sized martini as you unwind with style. From dry to dirty\, shaken to stirred\, our martinis are crafted to elevate your evening\, one glass at a time.
URL:https://birdsnestatblackbird.com/event/martini-night/2026-10-29/
LOCATION:Bird’s Nest at Blackbird\, 3608 Rogers Branch Rd #103\, Wake Forest\, NC\, 27587\, United States
ATTACH;FMTTYPE=image/jpeg:https://birdsnestatblackbird.com/wp-content/uploads/2024/06/Martini-2.jpg
ORGANIZER;CN="Bird's Nest at Blackbird":MAILTO:info@blackbirdbeer.com
END:VEVENT
BEGIN:VEVENT
DTSTART;TZID=America/New_York:20261105T170000
DTEND;TZID=America/New_York:20261105T220000
DTSTAMP:20260423T043342
CREATED:20251114T170950Z
LAST-MODIFIED:20251223T200713Z
UID:10004118-1793898000-1793916000@birdsnestatblackbird.com
SUMMARY:Martini Night
DESCRIPTION:Thursdays are for the bold and the refined. Savor $1 off martini flights and $1 off any full-sized martini as you unwind with style. From dry to dirty\, shaken to stirred\, our martinis are crafted to elevate your evening\, one glass at a time.
URL:https://birdsnestatblackbird.com/event/martini-night/2026-11-05/
LOCATION:Bird’s Nest at Blackbird\, 3608 Rogers Branch Rd #103\, Wake Forest\, NC\, 27587\, United States
ATTACH;FMTTYPE=image/jpeg:https://birdsnestatblackbird.com/wp-content/uploads/2024/06/Martini-2.jpg
ORGANIZER;CN="Bird's Nest at Blackbird":MAILTO:info@blackbirdbeer.com
END:VEVENT
BEGIN:VEVENT
DTSTART;TZID=America/New_York:20261112T170000
DTEND;TZID=America/New_York:20261112T220000
DTSTAMP:20260423T043342
CREATED:20251114T170950Z
LAST-MODIFIED:20251223T200713Z
UID:10004119-1794502800-1794520800@birdsnestatblackbird.com
SUMMARY:Martini Night
DESCRIPTION:Thursdays are for the bold and the refined. Savor $1 off martini flights and $1 off any full-sized martini as you unwind with style. From dry to dirty\, shaken to stirred\, our martinis are crafted to elevate your evening\, one glass at a time.
URL:https://birdsnestatblackbird.com/event/martini-night/2026-11-12/
LOCATION:Bird’s Nest at Blackbird\, 3608 Rogers Branch Rd #103\, Wake Forest\, NC\, 27587\, United States
ATTACH;FMTTYPE=image/jpeg:https://birdsnestatblackbird.com/wp-content/uploads/2024/06/Martini-2.jpg
ORGANIZER;CN="Bird's Nest at Blackbird":MAILTO:info@blackbirdbeer.com
END:VEVENT
END:VCALENDAR