BEGIN:VCALENDAR
VERSION:2.0
PRODID:-//Bird&#039;s Nest at Blackbird - ECPv6.15.18//NONSGML v1.0//EN
CALSCALE:GREGORIAN
METHOD:PUBLISH
X-WR-CALNAME:Bird&#039;s Nest at Blackbird
X-ORIGINAL-URL:https://birdsnestatblackbird.com
X-WR-CALDESC:Events for Bird&#039;s Nest at Blackbird
REFRESH-INTERVAL;VALUE=DURATION:PT1H
X-Robots-Tag:noindex
X-PUBLISHED-TTL:PT1H
BEGIN:VTIMEZONE
TZID:America/New_York
BEGIN:DAYLIGHT
TZOFFSETFROM:-0500
TZOFFSETTO:-0400
TZNAME:EDT
DTSTART:20250309T070000
END:DAYLIGHT
BEGIN:STANDARD
TZOFFSETFROM:-0400
TZOFFSETTO:-0500
TZNAME:EST
DTSTART:20251102T060000
END:STANDARD
BEGIN:DAYLIGHT
TZOFFSETFROM:-0500
TZOFFSETTO:-0400
TZNAME:EDT
DTSTART:20260308T070000
END:DAYLIGHT
BEGIN:STANDARD
TZOFFSETFROM:-0400
TZOFFSETTO:-0500
TZNAME:EST
DTSTART:20261101T060000
END:STANDARD
BEGIN:DAYLIGHT
TZOFFSETFROM:-0500
TZOFFSETTO:-0400
TZNAME:EDT
DTSTART:20270314T070000
END:DAYLIGHT
BEGIN:STANDARD
TZOFFSETFROM:-0400
TZOFFSETTO:-0500
TZNAME:EST
DTSTART:20271107T060000
END:STANDARD
END:VTIMEZONE
BEGIN:VEVENT
DTSTART;TZID=America/New_York:20260129T190000
DTEND;TZID=America/New_York:20260129T220000
DTSTAMP:20260422T020728
CREATED:20260116T224732Z
LAST-MODIFIED:20260116T224732Z
UID:10004491-1769713200-1769724000@birdsnestatblackbird.com
SUMMARY:New Year\, New Love - Matchmaking Event
DESCRIPTION:Just a bar. Everyone single.\nBecause 2026 is about meeting in real life — not on dating apps. \nNew Year\, New Love is taking over Bird’s Nest at Blackbird. \nHosted by Thursday\, this is a matchmaking event specifically for folks ages 50-60.\nThink great drinks\, effortless conversation\, and a room full of singles who actually showed up. No pressure. No speed dating. Just good energy and the chance to meet someone new as the year begins. \nThere will be light matchmaking moments\, natural ice-breakers\, and plenty of space for organic connections — whether that’s a spark\, a laugh\, or just a great conversation. \nSomeone’s going to make the first move.\nIt might as well be you. \nPurchase tickets ahead of time through the Thursday website –> Purchase Tickets
URL:https://birdsnestatblackbird.com/event/new-year-new-love-matchmaking-event/
LOCATION:Bird’s Nest at Blackbird\, 3608 Rogers Branch Rd #103\, Wake Forest\, NC\, 27587\, United States
ATTACH;FMTTYPE=image/avif:https://birdsnestatblackbird.com/wp-content/uploads/2026/01/W1siZiIsInB1YmxpYy8yMDI2LzEvMTUvMi81Ni81My8xMjIvUmFja011bHRpcGFydDIwMjYwMTE1LTYwLTEzdGFmcXgucG5nIl1d.avif
END:VEVENT
END:VCALENDAR